BEGIN:VCALENDAR
VERSION:2.0
PRODID:-//ChamberMaster//Event Calendar 2.0//EN
METHOD:PUBLISH
X-PUBLISHED-TTL:P3D
REFRESH-INTERVAL:P3D
CALSCALE:GREGORIAN
BEGIN:VEVENT
DTSTART:20131226T170000Z
DTEND:20131230T210000Z
X-MICROSOFT-CDO-ALLDAYEVENT:FALSE
SUMMARY:Bavarian Inn Restaurant - Christmas Break Activities
DESCRIPTION:Bavarian Inn Restaurant presents Christmas Break Activities from 12pm-4pm in the Bavarian Inn Castle Shops.\n\nParticipate in variety of activities fun for the whole family.  Glitter\, Tattoos\, monster cookie making\, hair charmies and more...
X-ALT-DESC;FMTTYPE=text/html:Bavarian Inn Restaurant presents Christmas Break Activities from 12pm-4pm in the Bavarian Inn Castle Shops.\n\nParticipate in variety of activities fun for the whole family.  Glitter\, Tattoos\, monster cookie making\, hair charmies and more...
LOCATION:
UID:e.2606.627
SEQUENCE:3
DTSTAMP:20260421T171432Z
URL:https://members.flintandgeneseechamber.org/events/details/bavarian-inn-restaurant-christmas-break-activities-12-26-2013-627
END:VEVENT

END:VCALENDAR
