BEGIN:VCALENDAR
VERSION:2.0
PRODID:-//ChamberMaster//Event Calendar 2.0//EN
METHOD:PUBLISH
X-PUBLISHED-TTL:P3D
REFRESH-INTERVAL:P3D
CALSCALE:GREGORIAN
BEGIN:VEVENT
DTSTART:20131211T233000Z
DTEND:20131212T013000Z
X-MICROSOFT-CDO-ALLDAYEVENT:FALSE
SUMMARY:Bavarian Inn Restaurant Holiday Wine Dinner
DESCRIPTION:Bavarian Inn Restaurant present a Holiday Wine Dinner\n\nEnjoy a festive evening celebrating the holidays at our annual Bavarian Inn Holiday Dinner.   It will be an evening that will tantalize your senses.  5 delicious courses carefully paired with tasty wines.  $55 per person and includes meal\, wine\, tax and gratuity.  Advance reservation and prepayment required.\n\n \n\nFor more information please call 1-800-BAVARIA OR 989-652-9941.  also visit www.bavarianinn.com
X-ALT-DESC;FMTTYPE=text/html:Bavarian Inn Restaurant present a Holiday Wine Dinner\n\nEnjoy a festive evening celebrating the holidays at our annual Bavarian Inn Holiday Dinner.   It will be an evening that will tantalize your senses.  5 delicious courses carefully paired with tasty wines.  $55 per person and includes meal\, wine\, tax and gratuity.  Advance reservation and prepayment required.\n\n&nbsp\;\n\nFor more information please call 1-800-BAVARIA OR 989-652-9941.  also visit <a href="http://www.bavarianinn.com">www.bavarianinn.com</a>\n\n&nbsp\;\n\n&nbsp\;
LOCATION:
UID:e.2606.626
SEQUENCE:3
DTSTAMP:20260421T171428Z
URL:https://members.flintandgeneseechamber.org/events/details/bavarian-inn-restaurant-holiday-wine-dinner-12-11-2013-626
END:VEVENT

END:VCALENDAR
