BEGIN:VCALENDAR
VERSION:2.0
PRODID:-//ChamberMaster//Event Calendar 2.0//EN
METHOD:PUBLISH
X-PUBLISHED-TTL:P3D
REFRESH-INTERVAL:P3D
CALSCALE:GREGORIAN
BEGIN:VEVENT
DTSTART:20131207T170000Z
DTEND:20131207T210000Z
X-MICROSOFT-CDO-ALLDAYEVENT:FALSE
SUMMARY:Bavarian Inn Restaurant Holiday Wine tasting
DESCRIPTION:Bavarian Inn Restaurant presents Holiday Wine Tasting from 12pm-4pm in Bavarian Inn Castle Shops.\n\nSample a variety of wines great for hosting those holiday party  (.25 per sample)
X-ALT-DESC;FMTTYPE=text/html:Bavarian Inn Restaurant presents Holiday Wine Tasting from 12pm-4pm in Bavarian Inn Castle Shops.\n\nSample a variety of wines great for hosting those holiday party  (.25 per sample)\n\n&nbsp\;\n\n&nbsp\;\n\n&nbsp\;
LOCATION:Bavarian Inn 713 S Main Street Frankenmuth Michigan 48734
UID:e.2606.625
SEQUENCE:3
DTSTAMP:20260421T171521Z
URL:https://members.flintandgeneseechamber.org/events/details/bavarian-inn-restaurant-holiday-wine-tasting-12-07-2013-625
END:VEVENT

END:VCALENDAR
