BEGIN:VCALENDAR
VERSION:2.0
PRODID:-//ChamberMaster//Event Calendar 2.0//EN
METHOD:PUBLISH
X-PUBLISHED-TTL:P3D
REFRESH-INTERVAL:P3D
CALSCALE:GREGORIAN
BEGIN:VEVENT
DTSTART:20140510T130000Z
DTEND:20140510T170000Z
X-MICROSOFT-CDO-ALLDAYEVENT:FALSE
SUMMARY:Beautification Project
DESCRIPTION:The Flint & Genesee Chamber of Commerce’s Young Professionals invite you to a Beautification Project at the YWCA of Flint.\nChildren are welcome with a watchful adult. Volunteers are free to come and go.\nIf possible\, please bring your own gloves\, rakes\, and hand spades.\n(Please park on opposite side of street in shared lot with YMCA)\nQuestions? Contact Mindy Brisbane at (810) 766-7717 or e-mail merinda.brisbane@firstmerit.com
X-ALT-DESC;FMTTYPE=text/html:<p style="text-align: left\;" align="center">The Flint &amp\; Genesee Chamber of Commerce’s Young Professionals invite you to a Beautification Project at the YWCA of Flint.</p>\n<p style="text-align: left\;" align="center">Children are welcome with a watchful adult. Volunteers are free to come and go.</p>\n<p style="text-align: left\;" align="center">If possible\, please bring your own gloves\, rakes\, and hand spades.</p>\n<p style="text-align: left\;" align="center">(Please park on opposite side of street in shared lot with YMCA)</p>\n<p style="text-align: left\;" align="center">Questions? Contact Mindy Brisbane at (810) 766-7717 or e-mail <a href="mailto:merinda.brisbane@firstmerit.com">merinda.brisbane@firstmerit.com</a></p>\n<p style="text-align: left\;" align="center"></p>
LOCATION:YWCA 310 E. Third Street Flint MI 48502
UID:e.2606.931
SEQUENCE:3
DTSTAMP:20260421T101139Z
URL:https://members.flintandgeneseechamber.org/events/details/beautification-project-05-10-2014-931
END:VEVENT

END:VCALENDAR
