BEGIN:VCALENDAR
VERSION:2.0
PRODID:-//ChamberMaster//Event Calendar 2.0//EN
METHOD:PUBLISH
X-PUBLISHED-TTL:P3D
REFRESH-INTERVAL:P3D
CALSCALE:GREGORIAN
BEGIN:VEVENT
DTSTART:20140614T170000Z
DTEND:20140614T190000Z
X-MICROSOFT-CDO-ALLDAYEVENT:FALSE
SUMMARY:Beautiful Designs by Stephanie is hosting a workshop ''Divas decorating on a budget''
DESCRIPTION:Beautiful Designs by Stephanie is hosting a workshop "Divas decorating on a budget"\n\nIt will take place on Saturday\, June 14\, 2014 at MLive\, 540 S. Saginaw Street\, #101\, 1-3 pm.  the cost is $25.00.\n\nThe workshop will demonstrate how to decorate on a budget\, shopping tips\, and more.\n\nRegister at www.stephanidesigns.com or contact Stephanie at (810) 955-8396. Thank you.
X-ALT-DESC;FMTTYPE=text/html:Beautiful Designs by Stephanie is hosting a workshop "Divas decorating on a budget"\n\nIt will take place on Saturday\, <strong>June 14\, 2014 at MLive\, 540 S. Saginaw Street\, #101\, 1-3 pm.  the cost is $25.00</strong>.\n\nThe workshop will demonstrate how to decorate on a budget\, shopping tips\, and more.\n\nRegister at <a href="http://www.stephanidesigns.com" target="_blank">www.stephanidesigns.com</a> or contact Stephanie at <a href="tel:%28810%29%20955-8396" target="_blank">(810) 955-8396</a>. Thank you.\n\n&nbsp\;
LOCATION:MLive / Flint Jounal 540 S. Saginaw St. Flint MI 48502
UID:e.2606.1031
SEQUENCE:3
DTSTAMP:20260421T101646Z
URL:https://members.flintandgeneseechamber.org/events/details/beautiful-designs-by-stephanie-is-hosting-a-workshop-divas-decorating-on-a-budget-06-14-2014-1031
END:VEVENT

END:VCALENDAR
