BEGIN:VCALENDAR
VERSION:2.0
PRODID:-//ChamberMaster//Event Calendar 2.0//EN
METHOD:PUBLISH
X-PUBLISHED-TTL:P3D
REFRESH-INTERVAL:P3D
CALSCALE:GREGORIAN
BEGIN:VEVENT
DTSTART:20140511T000000Z
DTEND:20140511T020000Z
X-MICROSOFT-CDO-ALLDAYEVENT:FALSE
SUMMARY:Big River
DESCRIPTION:Flint Community Players Presents "Big River."  Based on The Adventures of Huckleberry Finn\, escape down the mighty Mississippi for one of the most engaging musicals in the American theatre. Join the ultimate adventure alongside Huckleberry Finn\, Tom Sawyer\, the runaway slave Jim and a host of other literary characters as their journey comes to vivid life on stage with a musical score by a true legend in country music\, Roger Miller. For details\, ticket information and a schedule of upcoming shows visit www.flintcommunityplayers.com.
X-ALT-DESC;FMTTYPE=text/html:Flint Community Players Presents "Big River."  Based on The Adventures of Huckleberry Finn\, escape down the mighty Mississippi for one of the most engaging musicals in the American theatre. Join the ultimate adventure alongside Huckleberry Finn\, Tom Sawyer\, the runaway slave Jim and a host of other literary characters as their journey comes to vivid life on stage with a musical score by a true legend in country music\, Roger Miller. For details\, ticket information and a schedule of upcoming shows visit <a title="The Flint Community Players" href="http://www.flintcommunityplayers.com/" target="_blank">www.flintcommunityplayers.com</a>.
LOCATION:The Flint Community Players 2462 Ballenger Hwy Flint Michigan 48507
UID:e.2606.938
SEQUENCE:3
DTSTAMP:20260421T095156Z
URL:https://members.flintandgeneseechamber.org/events/details/big-river-05-10-2014-938
END:VEVENT

END:VCALENDAR
