BEGIN:VCALENDAR
VERSION:2.0
PRODID:-//ChamberMaster//Event Calendar 2.0//EN
METHOD:PUBLISH
X-PUBLISHED-TTL:P3D
REFRESH-INTERVAL:P3D
CALSCALE:GREGORIAN
BEGIN:VEVENT
DTSTART:20131104T150000Z
DTEND:20131104T180000Z
X-MICROSOFT-CDO-ALLDAYEVENT:FALSE
SUMMARY:Biggby Coffee Ribbon Cutting Event!
DESCRIPTION:Come join the Flint & Genesee Chamber of Commerce for the Biggby Coffee Ribbon Cutting!\n\nDate:  Monday\, November 4th\n\nTime:  10 am\n\nWhere: Biggby Coffee\n\n3039 S. Linden Road\n\nFlint\, MI 48532\n\nIn the Medawar's Plaza
X-ALT-DESC;FMTTYPE=text/html:Come join the Flint &amp\; Genesee Chamber of Commerce for the Biggby Coffee Ribbon Cutting!\n\nDate:  Monday\, November 4th\n\nTime:  10 am\n\nWhere: Biggby Coffee\n\n3039 S. Linden Road\n\nFlint\, MI 48532\n\nIn the Medawar's Plaza
LOCATION:Biggby Coffee 3039 S. Linden Road Flint MI 48532
UID:e.2606.563
SEQUENCE:3
DTSTAMP:20260421T184836Z
URL:https://members.flintandgeneseechamber.org/events/details/biggby-coffee-ribbon-cutting-event-11-04-2013-563
END:VEVENT

END:VCALENDAR
