BEGIN:VCALENDAR
VERSION:2.0
PRODID:-//ChamberMaster//Event Calendar 2.0//EN
METHOD:PUBLISH
X-PUBLISHED-TTL:P3D
REFRESH-INTERVAL:P3D
CALSCALE:GREGORIAN
BEGIN:VEVENT
DTSTART:20130914T140000Z
DTEND:20130916T020000Z
X-MICROSOFT-CDO-ALLDAYEVENT:FALSE
SUMMARY:Bikes on the Bricks
DESCRIPTION:This unique event combines a motorcycle show and law enforcement motorcycle skills competition! Also\, enjoy a fashion show\, vendor and sponsor displays\, contests\, food\, live music and much more. Event runs Saturday from 10 a.m. to 10 p.m. and on Sunday from 10 a.m. to 5 p.m. For a detailed schedule of activities visit www.bikesonthebricks.com.
X-ALT-DESC;FMTTYPE=text/html:This unique event combines a motorcycle show and law enforcement motorcycle skills competition! Also\, enjoy a fashion show\, vendor and sponsor displays\, contests\, food\, live music and much more. Event runs Saturday from 10 a.m. to 10 p.m. and on Sunday from 10 a.m. to 5 p.m. For a detailed schedule of activities visit<a title="Bikes on the Bricks" href="http://bikesonthebricks.com/" target="_blank"> www.bikesonthebricks.com</a>.
LOCATION:Downtown Flint on Saginaw Street Saginaw Street Flint 48502
UID:e.2606.117
SEQUENCE:3
DTSTAMP:20260421T214519Z
URL:https://members.flintandgeneseechamber.org/events/details/bikes-on-the-bricks-09-14-2013-117
END:VEVENT

END:VCALENDAR
