BEGIN:VCALENDAR
VERSION:2.0
PRODID:-//ChamberMaster//Event Calendar 2.0//EN
METHOD:PUBLISH
X-PUBLISHED-TTL:P3D
REFRESH-INTERVAL:P3D
CALSCALE:GREGORIAN
BEGIN:VEVENT
DTSTART:20140524T183000Z
DTEND:20140525T203000Z
X-MICROSOFT-CDO-ALLDAYEVENT:FALSE
SUMMARY:Bloom - A World Premiere Production
DESCRIPTION:Flint Youth Theatre Presents "Bloom - A World Premiere Production."  Daniel is forced to move to the unfamiliar Flint after the death of his father. After a violent outburst at his new school\, Daniel begins to work with an urban gardener of several abandoned lots in the middle of the city. As the two men begin the summer planting\, they form an likely friendship and begin to help each other heal some old wounds. Enjoy a conversation with the creative team following Saturday's performance. For details\, ticket information and a schedule of upcoming shows visit www.thefim.org.
X-ALT-DESC;FMTTYPE=text/html:Flint Youth Theatre Presents "Bloom - A World Premiere Production."  Daniel is forced to move to the unfamiliar Flint after the death of his father. After a violent outburst at his new school\, Daniel begins to work with an urban gardener of several abandoned lots in the middle of the city. As the two men begin the summer planting\, they form an likely friendship and begin to help each other heal some old wounds. Enjoy a conversation with the creative team following Saturday's performance. For details\, ticket information and a schedule of upcoming shows visit <a title="Flint Youth Theatre" href="http://www.thefim.org/" target="_blank">www.thefim.org</a>.
LOCATION:Flint Youth Theatre 1220 E. Kearsley Street Flint Michigan
UID:e.2606.600
SEQUENCE:3
DTSTAMP:20260421T101535Z
URL:https://members.flintandgeneseechamber.org/events/details/bloom-a-world-premiere-production-05-24-2014-600
END:VEVENT

END:VCALENDAR
