BEGIN:VCALENDAR
VERSION:2.0
PRODID:-//ChamberMaster//Event Calendar 2.0//EN
METHOD:PUBLISH
X-PUBLISHED-TTL:P3D
REFRESH-INTERVAL:P3D
CALSCALE:GREGORIAN
BEGIN:VEVENT
DTSTART:20130504T130000Z
DTEND:20130504T190000Z
X-MICROSOFT-CDO-ALLDAYEVENT:FALSE
SUMMARY:Boys & Girls Club of Greater Flint's Lincoln Driven to Give Event
DESCRIPTION:This Saturday\, May 4\, 2013 the Boys & Girls Club of Greater Flint has a unique opportunity to raise $8\,000 in one day through the Lincoln Driven to Give Event.\n\nFrom 9am-3pm representatives from Randy Wise Automotive Team will be at the Boys & Girls Club Averill Unit (3701 N. Averill Avenue\, Flint\, 48506) with the full line of Lincoln Vehicles.  For every person (over 18\, with valid driver’s license\, limited to one per household) that test drives a vehicle the Club will receive $20.\n\nIn addition\, if you do one test drive and stay to take a second test drive in the Lincoln MKS\, the Club will receive an additional $20.  If we are able to recruit 300 test drivers and convince 100 of those people to do the second test drive\, we will max out the earning potential of this event and raise $8\,000!
X-ALT-DESC;FMTTYPE=text/html:This Saturday\, May 4\, 2013 the Boys &amp\; Girls Club of Greater Flint has a unique opportunity to raise $8\,000 in one day through the <em>Lincoln Driven to Give Event</em>.\n\nFrom 9am-3pm representatives from Randy Wise Automotive Team will be at the Boys &amp\; Girls Club Averill Unit (3701 N. Averill Avenue\, Flint\, 48506) with the full line of Lincoln Vehicles.  For every person (over 18\, with valid driver’s license\, limited to one per household) that test drives a vehicle the Club will receive $20.\n\nIn addition\, if you do one test drive and stay to take a second test drive in the Lincoln MKS\, the Club will receive an additional $20.  If we are able to recruit 300 test drivers and convince 100 of those people to do the second test drive\, we will max out the earning potential of this event and raise $8\,000!
LOCATION:Boys & Girls Club Averill Unit 3701 N. Averill Avenue Flint MI 48506
UID:e.2606.165
SEQUENCE:3
DTSTAMP:20260422T042351Z
URL:https://members.flintandgeneseechamber.org/events/details/boys-girls-club-of-greater-flint-s-lincoln-driven-to-give-event-05-04-2013-165
END:VEVENT

END:VCALENDAR
