BEGIN:VCALENDAR
VERSION:2.0
PRODID:-//ChamberMaster//Event Calendar 2.0//EN
METHOD:PUBLISH
X-PUBLISHED-TTL:P3D
REFRESH-INTERVAL:P3D
CALSCALE:GREGORIAN
BEGIN:VEVENT
DTSTART:20251221T140000Z
DTEND:20251221T160000Z
X-MICROSOFT-CDO-ALLDAYEVENT:FALSE
SUMMARY:Breakfast with Santa & Mrs. Claus @ Bavarian Inn Lodge
DESCRIPTION:Breakfast with Santa & Mrs. Claus at Bavarian Inn Lodge!\nSunday\, December 21\, at 9 AM\n\nEnjoy a great morning with a breakfast buffet\, visit with Santa and Mrs. Claus\, a present from Santa for each child\, winter craft\, and an appearance from Willy the Dragon and Greta! All children are to be accompanied by an adult. The ticket price includes Taxes and Gratuity.
X-ALT-DESC;FMTTYPE=text/html:<span style="background-color:rgb(255\, 255\, 255)\; color:rgb(102\, 102\, 102)\; font-family:open sans\,arial\,sans-serif\; font-size:14px">Breakfast with Santa &amp\; Mrs. Claus at Bavarian Inn Lodge!</span>\n<p>Sunday\, December 21\, at 9 AM</p>\n\n<p>Enjoy a great morning with a breakfast buffet\, visit with Santa and Mrs. Claus\, a present from Santa for each child\, winter craft\, and an appearance from Willy the Dragon and Greta! All children are to be accompanied by an adult. The ticket price includes Taxes and Gratuity.</p>\n
LOCATION:Frankenmuth Bavarian Inn Lodge One Covered Bridge Ln\, Frankenmuth\, MI\, 48734
UID:e.2606.20144
SEQUENCE:3
DTSTAMP:20260421T175835Z
URL:https://members.flintandgeneseechamber.org/events/details/breakfast-with-santa-mrs-claus-bavarian-inn-lodge-20144
END:VEVENT

END:VCALENDAR
