BEGIN:VCALENDAR
VERSION:2.0
PRODID:-//ChamberMaster//Event Calendar 2.0//EN
METHOD:PUBLISH
X-PUBLISHED-TTL:P3D
REFRESH-INTERVAL:P3D
CALSCALE:GREGORIAN
BEGIN:VEVENT
DTSTART:20140806T150000Z
DTEND:20140806T180000Z
X-MICROSOFT-CDO-ALLDAYEVENT:FALSE
SUMMARY:Bring Your Lunch and Learn
DESCRIPTION:Come stroll the grounds of Applewood and soak in the beauty of Mother Nature. Bring a sack-lunch and participate in "Flower Arranging & Frog Fun." Learn how to make beautiful\, long-lasting cut flower arrangements and have some hoping-good fun at the lily pad of Applewood's beloved Flint sculpture\, Friendly Frog! Recommended for all ages. Free admission\, but please consider bringing a food item or toiletries that will be donated to local shelters. For details and a schedule of upcoming events visit www.applewood.org.
X-ALT-DESC;FMTTYPE=text/html:Come stroll the grounds of Applewood and soak in the beauty of Mother Nature. Bring a sack-lunch and participate in "Flower Arranging &amp\; Frog Fun." Learn how to make beautiful\, long-lasting cut flower arrangements and have some hoping-good fun at the lily pad of Applewood's beloved Flint sculpture\, Friendly Frog! Recommended for all ages. Free admission\, but please consider bringing a food item or toiletries that will be donated to local shelters. For details and a schedule of upcoming events visit <a title="Applewood" href="http://www.ruthmottfoundation.org/applewood/" target="_blank">www.applewood.org</a>.\n\n&nbsp\;\n\n<strong> </strong>
LOCATION:Applewood 1400 E. Kearsley Street Flint Michigan
UID:e.2606.1011
SEQUENCE:3
DTSTAMP:20260419T123630Z
URL:https://members.flintandgeneseechamber.org/events/details/bring-your-lunch-and-learn-08-06-2014-1011
END:VEVENT

END:VCALENDAR
