BEGIN:VCALENDAR
VERSION:2.0
PRODID:-//ChamberMaster//Event Calendar 2.0//EN
METHOD:PUBLISH
X-PUBLISHED-TTL:P3D
REFRESH-INTERVAL:P3D
CALSCALE:GREGORIAN
BEGIN:VEVENT
DTSTART:20140910T150000Z
DTEND:20140910T180000Z
X-MICROSOFT-CDO-ALLDAYEVENT:FALSE
SUMMARY:Bring Your Lunch and Learn
DESCRIPTION:Come stroll the grounds of Applewood and soak in the beauty of Mother Nature. Bring a sack-lunch and participate in "Fall Planting - A Time to Every Season." Fall is a great time to plant and this instructive workshop offers hands-on tips for properly planting trees and shrubs so they thrive in your landscape. Kids can learn about landscape plants on a creative scavenger hunt. Recommended for all ages. Free admission\, but please consider bringing a food item or toiletries that will be donated to local shelters. For details and a schedule of upcoming events visit www.applewood.org.
X-ALT-DESC;FMTTYPE=text/html:Come stroll the grounds of Applewood and soak in the beauty of Mother Nature. Bring a sack-lunch and participate in "Fall Planting - A Time to Every Season." Fall is a great time to plant and this instructive workshop offers hands-on tips for properly planting trees and shrubs so they thrive in your landscape. Kids can learn about landscape plants on a creative scavenger hunt. Recommended for all ages. Free admission\, but please consider bringing a food item or toiletries that will be donated to local shelters. For details and a schedule of upcoming events visit <a title="Applewood" href="http://www.ruthmottfoundation.org/applewood/" target="_blank">www.applewood.org</a>.\n\n&nbsp\;
LOCATION:Applewood 1400 E. Kearsley Street Flint Michigan
UID:e.2606.1012
SEQUENCE:3
DTSTAMP:20260421T084306Z
URL:https://members.flintandgeneseechamber.org/events/details/bring-your-lunch-and-learn-09-10-2014-1012
END:VEVENT

END:VCALENDAR
