BEGIN:VCALENDAR
VERSION:2.0
PRODID:-//ChamberMaster//Event Calendar 2.0//EN
METHOD:PUBLISH
X-PUBLISHED-TTL:P3D
REFRESH-INTERVAL:P3D
CALSCALE:GREGORIAN
BEGIN:VEVENT
DTSTART:20140207T220000Z
DTEND:20140208T010000Z
X-MICROSOFT-CDO-ALLDAYEVENT:FALSE
SUMMARY:Burgers\, Brew & Dudes at IMA Golf Club
DESCRIPTION:Enjoy this men's only event featuring a Build Your Own Burger Bar sponsored by Freakin' Unbelievable Burgers\, Beer Tasting sponsored by The Red Baron\, Hot Towel Shaves sponsored by The Lodge (men's grooming services) and a Cigar Tent sponsored by Sunrise Coast Cigars. Also\, have fun at the Manly Man Obstacle Course and the Texas Hold Em' table. Participants must be 21 years of age. All proceeds benefit the IMA Recreation Association and the Boys & Girls Club of Greater Flint. To register click on www.burgerbrewsanddudes.com or contact Diane at (810) 249-7060.
X-ALT-DESC;FMTTYPE=text/html:Enjoy this men's only event featuring a Build Your Own Burger Bar sponsored by Freakin' Unbelievable Burgers\, Beer Tasting sponsored by The Red Baron\, Hot Towel Shaves sponsored by The Lodge (men's grooming services) and a Cigar Tent sponsored by Sunrise Coast Cigars. Also\, have fun at the Manly Man Obstacle Course and the Texas Hold Em' table. Participants must be 21 years of age. All proceeds benefit the IMA Recreation Association and the Boys &amp\; Girls Club of Greater Flint. To register click on <a title="Burgers\, Brews &amp\; Dudes " href="http://www.imarecreation.org/special-events/burgers-brews-dudes" target="_blank">www.burgerbrewsanddudes.com</a> or contact Diane at (810) 249-7060.
LOCATION:IMA Brookwood Golf Club 6045 Davison Road Burton MI
UID:e.2606.790
SEQUENCE:3
DTSTAMP:20260421T143343Z
URL:https://members.flintandgeneseechamber.org/events/details/burgers-brew-dudes-at-ima-golf-club-02-07-2014-790
END:VEVENT

END:VCALENDAR
