BEGIN:VCALENDAR
VERSION:2.0
PRODID:-//ChamberMaster//Event Calendar 2.0//EN
METHOD:PUBLISH
X-PUBLISHED-TTL:P3D
REFRESH-INTERVAL:P3D
CALSCALE:GREGORIAN
BEGIN:VEVENT
DTSTART;VALUE=DATE:20130527
DTEND;VALUE=DATE:20130528
TRANSP:TRANSPARENT
X-MICROSOFT-CDO-ALLDAYEVENT:TRUE
SUMMARY:Burton Road Race
DESCRIPTION:Starting at Atherton High School\n\nhttp://burtonmi.gov
X-ALT-DESC;FMTTYPE=text/html:Starting at Atherton High School\n\n<a href="http://burtonmi.gov/">http://burtonmi.gov</a>
LOCATION:Atherton High School 3354 S Genesee Rd Burton Michigan 48519
UID:e.2606.35
SEQUENCE:3
DTSTAMP:20260422T041734Z
URL:https://members.flintandgeneseechamber.org/events/details/burton-road-race-05-27-2013-35
END:VEVENT

END:VCALENDAR
