BEGIN:VCALENDAR
VERSION:2.0
PRODID:-//ChamberMaster//Event Calendar 2.0//EN
METHOD:PUBLISH
X-PUBLISHED-TTL:P3D
REFRESH-INTERVAL:P3D
CALSCALE:GREGORIAN
BEGIN:VEVENT
DTSTART:20140211T150000Z
DTEND:20140211T160000Z
X-MICROSOFT-CDO-ALLDAYEVENT:FALSE
SUMMARY:Business Financing Workshops: What are Banks and Credit Unions Looking for in a Small Business
DESCRIPTION:Metro Community Development will sponsor a series of free Business Workshop classes that will focus on Business Financing.\n\nFeb. 11: What are Banks and Credit unions looking for in a Small Business\,10am -11am at the Oak Business Center located at 2712 N. Saginaw St. Flint MI. 48505\n\nCall Abron Andrews at 810-767-4622 ex.22 to register.\n\n*Workshops topics may change due to speaker availability.
X-ALT-DESC;FMTTYPE=text/html:Metro Community Development will sponsor a series of free Business Workshop classes that will focus on Business Financing.\n\n<b>Feb. </b>11: <b>What are Banks and Credit unions looking for in a Small Business</b>\,10am -11am at the Oak Business Center located at 2712 N. Saginaw St. Flint MI. 48505\n\nCall Abron Andrews at 810-767-4622 ex.22 to register.\n\n*Workshops topics may change due to speaker availability.
LOCATION:Oak Business Center 2712 N. Saginaw Street Flint MI 48505
UID:e.2606.1550
SEQUENCE:3
DTSTAMP:20260421T143604Z
URL:https://members.flintandgeneseechamber.org/events/details/business-financing-workshops-what-are-banks-and-credit-unions-looking-for-in-a-small-business-02-11-2014-1550
END:VEVENT

END:VCALENDAR
