BEGIN:VCALENDAR
VERSION:2.0
PRODID:-//ChamberMaster//Event Calendar 2.0//EN
METHOD:PUBLISH
X-PUBLISHED-TTL:P3D
REFRESH-INTERVAL:P3D
CALSCALE:GREGORIAN
BEGIN:VEVENT
DTSTART:20140421T170000Z
DTEND:20140421T190000Z
X-MICROSOFT-CDO-ALLDAYEVENT:FALSE
SUMMARY:Business Plan #101 Workshop
DESCRIPTION:Metro Community Development will sponsor a series of free Business Workshop classes that will focus on Creating and Developing Business Plans.\n\nThe Business Plan workshop are structured to provide entrepreneurs in-class instruction and guidance on how to develop their business plans.\n\nThe workshops will be held  from 1pm-3pm at the Oak Business Center located at 2712 N. Saginaw St. Flint MI. 48505.\n\nCall Abron Andrews at 810-767-4622 ex.22 to register.
X-ALT-DESC;FMTTYPE=text/html:Metro Community Development will sponsor a series of free Business Workshop classes that will focus on Creating and Developing Business Plans.\n\nThe Business Plan workshop are structured to provide entrepreneurs in-class instruction and guidance on how to develop their business plans.\n\nThe workshops will be held  from 1pm-3pm at the Oak Business Center located at 2712 N. Saginaw St. Flint MI. 48505.\n\nCall Abron Andrews at 810-767-4622 ex.22 to register.
LOCATION:Oak Business Center 2712 N. Saginaw Street Flint MI 48505
UID:e.2606.1558
SEQUENCE:3
DTSTAMP:20260421T112049Z
URL:https://members.flintandgeneseechamber.org/events/details/business-plan-101-workshop-04-21-2014-1558
END:VEVENT

END:VCALENDAR
