BEGIN:VCALENDAR
VERSION:2.0
PRODID:-//ChamberMaster//Event Calendar 2.0//EN
METHOD:PUBLISH
X-PUBLISHED-TTL:P3D
REFRESH-INTERVAL:P3D
CALSCALE:GREGORIAN
BEGIN:VEVENT
DTSTART:20251013T153000Z
DTEND:20251013T170000Z
X-MICROSOFT-CDO-ALLDAYEVENT:FALSE
SUMMARY:Business Summit #II: UM-Flint School of Management
DESCRIPTION:BUSINESS SUMMIT II \n\nPresented by the University of Michigan-Flint School of Management\n\nMonday\, October 13  |  11:30 am - 1 pm\n\nNorthbank Center  |  432 N. Saginaw St.  |  Flint\, MI 48502\n\n\n\nFeatured Speaker:\n\nGarrick Rochow\, President & CEO\, CMS Energy & Consumers Energy\n\n\n\n11:30 am  |  Lunch is served\n\nNoon - 1 p.m.  |   Keynote speech and Q & A\n\n\n\nRSVP\n\nTo RSVP for this event\, visit rsvp.umich.edu/eAY25P\n\n\n\nFor questions about this event\, contact Kristin Arntz\, at kristicu@umich.edu or (810) 762-3253.
X-ALT-DESC;FMTTYPE=text/html:<span style="font-size:16px\;"><strong><span style="color:#000080\;"><span style="font-size:22px\;">BUSINESS SUMMIT II&nbsp\;</span></span><br />\n<span style="color:#DAA520\;"><em>Presented by the University of Michigan-Flint School of Management</em></span></strong></span><br />\n<strong><span style="font-size:14px\;">Monday\, October 13&nbsp\; |&nbsp\; 11:30 am - 1 pm<br />\nNorthbank Center&nbsp\; |&nbsp\; 432 N. Saginaw St.&nbsp\; |&nbsp\; Flint\, MI 48502<br />\n<br />\nFeatured Speaker:<br />\n<span style="font-size:16px\;">Garrick Rochow\, President &amp\; CEO\, CMS Energy &amp\; Consumers Energy</span></span></strong><br />\n<br />\n<span style="font-size:14px\;"><span style="color:#000080\;"><strong>11:30 am&nbsp\;</strong> |&nbsp\; Lunch is served<br />\n<strong>Noon - 1 p.m.</strong>&nbsp\; |&nbsp\; &nbsp\;Keynote speech and Q &amp\; A</span></span><br />\n<br />\n<strong><span style="font-size:14px\;"><span style="font-size:16px\;">RSVP</span></span></strong><br />\nTo RSVP for this event\, visit&nbsp\;<a href="http://rsvp.umich.edu/eAY25P"><strong>rsvp.umich.edu/eAY25P</strong></a><br />\n<br />\nFor questions about this event\, contact Kristin Arntz\,&nbsp\;at kristicu@umich.edu or (810) 762-3253.&nbsp\;
LOCATION:Northbank Center 432 N. Saginaw St. Flint\, MI 48502
UID:e.2606.20093
SEQUENCE:3
DTSTAMP:20260421T210609Z
URL:https://members.flintandgeneseechamber.org/events/details/business-summit-ii-um-flint-school-of-management-20093
END:VEVENT

END:VCALENDAR
