BEGIN:VCALENDAR
VERSION:2.0
PRODID:-//ChamberMaster//Event Calendar 2.0//EN
METHOD:PUBLISH
X-PUBLISHED-TTL:P3D
REFRESH-INTERVAL:P3D
CALSCALE:GREGORIAN
BEGIN:VEVENT
DTSTART:20130515T120000Z
DTEND:20130515T150000Z
X-MICROSOFT-CDO-ALLDAYEVENT:FALSE
SUMMARY:Business-to-Business Summit: the Case for Hiring Qualified Workers with Disabilities
DESCRIPTION:Join national keynote speaker\, Randy Lewis\, Walgreens Sr. Vice-President\; Rick Keyes\, Meijer Sr. Vice-President\; and a panel of local business leaders to hear the business case for hiring qualified workers with disabilities.\n\nWednesday\, May 15\n8:30 a.m. - 11:00 a.m.\nBreakfast and Registration begins at 8:00 a.m.
X-ALT-DESC;FMTTYPE=text/html:<div>Join national keynote speaker\, Randy Lewis\, Walgreens Sr. Vice-President\; Rick Keyes\, Meijer Sr. Vice-President\; and a panel of local business leaders to hear the business case for hiring qualified workers with disabilities.</div>\n<div></div>\n<div>Wednesday\, May 15</div>\n<div>8:30 a.m. - 11:00 a.m.</div>\n<div>Breakfast and Registration begins at 8:00 a.m.</div>\n<div></div>\n<div></div>
LOCATION:Genesys Conference and Banquet Center 805 Health Park Blvd Grand Blanc MI 48439
UID:e.2606.164
SEQUENCE:3
DTSTAMP:20260422T042246Z
URL:https://members.flintandgeneseechamber.org/events/details/business-to-business-summit-the-case-for-hiring-qualified-workers-with-disabilities-05-15-2013-164
END:VEVENT

END:VCALENDAR
