BEGIN:VCALENDAR
VERSION:2.0
PRODID:-//ChamberMaster//Event Calendar 2.0//EN
METHOD:PUBLISH
X-PUBLISHED-TTL:P3D
REFRESH-INTERVAL:P3D
CALSCALE:GREGORIAN
BEGIN:VEVENT
DTSTART:20130526T040000Z
DTEND:20130526T040000Z
X-MICROSOFT-CDO-ALLDAYEVENT:FALSE
SUMMARY:Car Show at Courtland Center Mall - Burton
DESCRIPTION:http://www.courtlandcenter.com
X-ALT-DESC;FMTTYPE=text/html:http://www.courtlandcenter.com
LOCATION:
UID:e.2606.5
SEQUENCE:3
DTSTAMP:20260422T043512Z
URL:https://members.flintandgeneseechamber.org/events/details/car-show-at-courtland-center-mall-burton-05-26-2013-5
END:VEVENT

END:VCALENDAR
