BEGIN:VCALENDAR
VERSION:2.0
PRODID:-//ChamberMaster//Event Calendar 2.0//EN
METHOD:PUBLISH
X-PUBLISHED-TTL:P3D
REFRESH-INTERVAL:P3D
CALSCALE:GREGORIAN
BEGIN:VEVENT
DTSTART:20130518T130000Z
DTEND:20130518T200000Z
X-MICROSOFT-CDO-ALLDAYEVENT:FALSE
SUMMARY:Caregiver Institute's Symposium
DESCRIPTION:Caregiver's Institute's Symposium on Saturday\, May 18th.\n\nThis event will be held at the Birch Run Expo Center in Birch Run\, MI from 9am to 4pm.  There will be a Charity Classic Car Show.\n\nBirch Run Expo Center\n\n11600 North Beyere Rd\n\nBirch Run\,  MI  48415\n\nAny question please call Nancy Dekatch at 810-845-6713\n\nwww.ndcaregiver.org
X-ALT-DESC;FMTTYPE=text/html:Caregiver's Institute's Symposium on Saturday\, May 18th.\n\nThis event will be held at the Birch Run Expo Center in Birch Run\, MI from 9am to 4pm.  There will be a Charity Classic Car Show.\n\nBirch Run Expo Center\n\n11600 North Beyere Rd\n\nBirch Run\,  MI  48415\n\nAny question please call Nancy Dekatch at 810-845-6713\n\n<a href="http://www.ndcaregiver.org/">www.ndcaregiver.org</a>\n\n&nbsp\;
LOCATION:Birch Run Expo Center 11600 North Beyer Road Birch Run MI 48415
UID:e.2606.167
SEQUENCE:3
DTSTAMP:20260422T041930Z
URL:https://members.flintandgeneseechamber.org/events/details/caregiver-institute-s-symposium-05-18-2013-167
END:VEVENT

END:VCALENDAR
