BEGIN:VCALENDAR
VERSION:2.0
PRODID:-//ChamberMaster//Event Calendar 2.0//EN
METHOD:PUBLISH
X-PUBLISHED-TTL:P3D
REFRESH-INTERVAL:P3D
CALSCALE:GREGORIAN
BEGIN:VEVENT
DTSTART:20260718T130000Z
DTEND:20260718T220000Z
X-MICROSOFT-CDO-ALLDAYEVENT:FALSE
SUMMARY:Cass River Colonial Encampment
DESCRIPTION:FREE Family Event taking place July 18 and 19 at Frankenmuth River Place Shops!\n\nExperience an encampment of historical reenactors representing the many eras of America's history. Visit and tour military camps ranging from the French & Indian War through the Revolutionary War\, and shop at historical vendors.\n\nExperience activities including:\n\n  Flag-raising ceremonies\n\n  Fashion show\n\n  Period concerts\n\n  Battle skirmishes\n\n  Revolutionary War Cannons\, Artillery & Weapons Demonstrations\n\nOngoing daily camp life and guard duty in the River Place Shops and Period encampments. The tent camps will be spread throughout the east side of Frankenmuth River Place Shops and the Covered Bridge grounds.
X-ALT-DESC;FMTTYPE=text/html:<p>FREE Family Event taking place July 18 and 19 at Frankenmuth River Place Shops!</p>\n\n<p>Experience an encampment of historical reenactors representing the many eras of America&rsquo\;s history. Visit and tour military camps ranging from the French &amp\; Indian War through the Revolutionary War\, and shop at historical vendors.</p>\n\n<p>Experience activities including:<br />\n&ndash\; Flag-raising ceremonies<br />\n&ndash\; Fashion show<br />\n&ndash\; Period concerts<br />\n&ndash\; Battle skirmishes<br />\n&ndash\; Revolutionary War Cannons\, Artillery &amp\; Weapons Demonstrations</p>\n\n<p>Ongoing daily camp life and guard duty in the River Place Shops and Period encampments. The tent camps will be spread throughout the east side of Frankenmuth River Place Shops and the Covered Bridge grounds.</p>\n
LOCATION:Frankenmuth River Place Shops 925 S. Main Street\, Frankenmuth\, MI 48734
UID:e.2606.20312
SEQUENCE:3
DTSTAMP:20260421T113301Z
URL:https://members.flintandgeneseechamber.org/events/details/cass-river-colonial-encampment-07-18-2026-20312
END:VEVENT

END:VCALENDAR
