BEGIN:VCALENDAR
VERSION:2.0
PRODID:-//ChamberMaster//Event Calendar 2.0//EN
METHOD:PUBLISH
X-PUBLISHED-TTL:P3D
REFRESH-INTERVAL:P3D
CALSCALE:GREGORIAN
BEGIN:VEVENT
DTSTART:20140322T140000Z
DTEND:20140322T180000Z
X-MICROSOFT-CDO-ALLDAYEVENT:FALSE
SUMMARY:Center for Business at Baker College of Flint Open House
DESCRIPTION:The public is invited to an open house for the new\, multi-million-dollar Center for Business at Baker College of Flint.\n\nThere will be live Internet feeds connecting the classrooms with business professionals throughout the state and other demonstrations. The Center’s design and technology support the educational focus of evaluating versus calculating data and providing ways students can build relationships with businesses so they will be more valuable to employers and able to hit the ground running at their first jobs.\n\nThe Center has furniture that is mobile and is easily reconfigurable\, all rooms have multiple interactive whiteboards\, and iPads are standard issue for all students.\n\nSeveral areas are available for use by local business.
X-ALT-DESC;FMTTYPE=text/html:The public is invited to an open house for the new\, multi-million-dollar Center for Business at Baker College of Flint.\n\nThere will be live Internet feeds connecting the classrooms with business professionals throughout the state and other demonstrations. The Center’s design and technology support the educational focus of evaluating versus calculating data and providing ways students can build relationships with businesses so they will be more valuable to employers and able to hit the ground running at their first jobs.\n\nThe Center has furniture that is mobile and is easily reconfigurable\, all rooms have multiple interactive whiteboards\, and iPads are standard issue for all students.\n\n<b>Several areas are available for use by local business.</b>
LOCATION:Center for Business at Baker College of Flint 1050 W. Bristol Road Flint MI 48507
UID:e.2606.840
SEQUENCE:3
DTSTAMP:20260421T131641Z
URL:https://members.flintandgeneseechamber.org/events/details/center-for-business-at-baker-college-of-flint-open-house-03-22-2014-840
END:VEVENT

END:VCALENDAR
