BEGIN:VCALENDAR
VERSION:2.0
PRODID:-//ChamberMaster//Event Calendar 2.0//EN
METHOD:PUBLISH
X-PUBLISHED-TTL:P3D
REFRESH-INTERVAL:P3D
CALSCALE:GREGORIAN
BEGIN:VEVENT
DTSTART:20140321T150000Z
DTEND:20140321T170000Z
X-MICROSOFT-CDO-ALLDAYEVENT:FALSE
SUMMARY:Center for Business at Baker College of Flint Ribbon Cutting
DESCRIPTION:Chamber members are invited to attend the ribbon-cutting ceremony and dedication of the Center for Business at Baker College of Flint.\n\nThe official remarks begin at 11:15 a.m.\, with tours and refreshments to follow.\n\nThere will be live Internet feeds connecting the classrooms with business professionals throughout the state and other demonstrations. The Center’s design and technology support the educational focus of evaluating versus calculating data and providing ways students can build relationships with businesses so they will be more valuable to employers and able to hit the ground running at their first jobs.\n\nThe Center has furniture that is mobile and is easily reconfigurable\, all rooms have multiple interactive whiteboards\, and iPads are standard issue for students.\n\nSeveral areas are available for use by local businesses.\n\nPlease RSVP to Robert Mohr at Robert.Mohr@baker.edu or 810.766.4143 by March 18\, 2014.
X-ALT-DESC;FMTTYPE=text/html:<b>Chamber members</b> are invited to attend the ribbon-cutting ceremony and dedication of the Center for Business at Baker College of Flint.\n\nThe official remarks begin at 11:15 a.m.\, with tours and refreshments to follow.\n\nThere will be live Internet feeds connecting the classrooms with business professionals throughout the state and other demonstrations. The Center’s design and technology support the educational focus of evaluating versus calculating data and providing ways students can build relationships with businesses so they will be more valuable to employers and able to hit the ground running at their first jobs.\n\nThe Center has furniture that is mobile and is easily reconfigurable\, all rooms have multiple interactive whiteboards\, and iPads are standard issue for students.\n\n<b>Several areas are available for use by local businesses.</b>\n\n<b>Please RSVP</b> to Robert Mohr at <a href="mailto:Robert.Mohr@baker.edu">Robert.Mohr@baker.edu</a> or 810.766.4143 by March 18\, 2014.
LOCATION:Center for Business at Baker College of Flint 1050 W. Bristol Road Flint MI 48507
UID:e.2606.845
SEQUENCE:3
DTSTAMP:20260421T131707Z
URL:https://members.flintandgeneseechamber.org/events/details/center-for-business-at-baker-college-of-flint-ribbon-cutting-03-21-2014-845
END:VEVENT

END:VCALENDAR
