BEGIN:VCALENDAR
VERSION:2.0
PRODID:-//ChamberMaster//Event Calendar 2.0//EN
METHOD:PUBLISH
X-PUBLISHED-TTL:P3D
REFRESH-INTERVAL:P3D
CALSCALE:GREGORIAN
BEGIN:VEVENT
DTSTART:20251106T223000Z
DTEND:20251107T013000Z
X-MICROSOFT-CDO-ALLDAYEVENT:FALSE
SUMMARY:Chair-ity Event 2025
DESCRIPTION:Join us for a fun filled evening including dinner\, live and silent auction\, raffles and more. Purchase tickets by October 6th and get the early bird discount! \n\n\n\nhttps://catholiccharitiesflint.networkforgood.com/events/90498-chair-ity-2025
X-ALT-DESC;FMTTYPE=text/html:Join us for a fun filled evening including dinner\, live and silent auction\, raffles and more. Purchase tickets by October 6th and get the early bird discount!&nbsp\;<br />\n<br />\nhttps://catholiccharitiesflint.networkforgood.com/events/90498-chair-ity-2025&nbsp\;
LOCATION:609 E Fifth Ave Flint\, Mi 48503
UID:e.2606.19870
SEQUENCE:3
DTSTAMP:20260421T193344Z
URL:https://members.flintandgeneseechamber.org/events/details/chair-ity-event-2025-19870
END:VEVENT

END:VCALENDAR
