BEGIN:VCALENDAR
VERSION:2.0
PRODID:-//ChamberMaster//Event Calendar 2.0//EN
METHOD:PUBLISH
X-PUBLISHED-TTL:P3D
REFRESH-INTERVAL:P3D
CALSCALE:GREGORIAN
BEGIN:VEVENT
DTSTART:20130808T220000Z
DTEND:20130809T033000Z
X-MICROSOFT-CDO-ALLDAYEVENT:FALSE
SUMMARY:Claressa Shields to Battle Alison Greey
DESCRIPTION:Claressa Shields\, Women's Olympic Gold Middleweight Boxer\, will challenge Canadian Alison Greey\, of the Windsor Amateur Boxing Club\, in a bout at the Connie and Jim John Recreation Center at Kettering University in Flint\, Michigan. This is the first hometown bout for Shields since her Gold Medal win at the 2012 Olympics. In addition to the main event\, the showcase event will feature 10 to 12 bouts between amateur boxers from the Flint area and boxing clubs from neighboring states. Also\, Shields\, Chris Byrd\, 1992 Silver Medalist and Andre Dirrell\, 2004 Bronze Medalist\, will be recognized in a boxing showcase "A Salute to Flint's Olympic Boxing Champions." Box Office and doors open at 6 p.m. with matches beginning at 7:30 p.m. Cost is $40 for VIP seating and $20 general admission. Proceeds will benefit the Claressa Shields Youth Foundation. Flint's Olympians will sign autographs and there will be concessions available. Purchase pre-event tickets by calling (810) 875-7261 or (810) 869-3158.
X-ALT-DESC;FMTTYPE=text/html:Claressa Shields\, Women's Olympic Gold Middleweight Boxer\, will challenge Canadian Alison Greey\, of the Windsor Amateur Boxing Club\, in a bout at the Connie and Jim John Recreation Center at Kettering University in Flint\, Michigan. This is the first hometown bout for Shields since her Gold Medal win at the 2012 Olympics. In addition to the main event\, the showcase event will feature 10 to 12 bouts between amateur boxers from the Flint area and boxing clubs from neighboring states. Also\, Shields\, Chris Byrd\, 1992 Silver Medalist and Andre Dirrell\, 2004 Bronze Medalist\, will be recognized in a boxing showcase "A Salute to Flint's Olympic Boxing Champions." Box Office and doors open at 6 p.m. with matches beginning at 7:30 p.m. Cost is $40 for VIP seating and $20 general admission. Proceeds will benefit the Claressa Shields Youth Foundation. Flint's Olympians will sign autographs and there will be concessions available. Purchase pre-event tickets by calling (810) 875-7261 or (810) 869-3158.
LOCATION:Kettering University Recreation Center 1700 University Avenue Flint Michigan
UID:e.2606.429
SEQUENCE:3
DTSTAMP:20260421T233828Z
URL:https://members.flintandgeneseechamber.org/events/details/claressa-shields-to-battle-alison-greey-08-08-2013-429
END:VEVENT

END:VCALENDAR
