BEGIN:VCALENDAR
VERSION:2.0
PRODID:-//ChamberMaster//Event Calendar 2.0//EN
METHOD:PUBLISH
X-PUBLISHED-TTL:P3D
REFRESH-INTERVAL:P3D
CALSCALE:GREGORIAN
BEGIN:VEVENT
DTSTART:20131212T050000Z
DTEND:20131215T050000Z
X-MICROSOFT-CDO-ALLDAYEVENT:FALSE
SUMMARY:Clio Cast and Crew Presents ''The 12 Daze of Christmas''
DESCRIPTION:Clio Cast and Crew celebrates the holidays with this cheery\, captivating and clever romp about a girl who realizes that when she sings "The Twelve Days of Christmas" the characters in the popular holiday tune begin to come to life. For details\, ticket information and a schedule of upcoming shows visit www.cliocastandcrew.com.
X-ALT-DESC;FMTTYPE=text/html:Clio Cast and Crew celebrates the holidays with this cheery\, captivating and clever romp about a girl who realizes that when she sings "The Twelve Days of Christmas" the characters in the popular holiday tune begin to come to life. For details\, ticket information and a schedule of upcoming shows visit <a title="Clio Cast and Crew" href="http://cliocastandcrew.com/index" target="_blank">www.cliocastandcrew.com</a>.\n\n&nbsp\;
LOCATION:Theatre 57 2220 W. Vienna Road Clio Michigan
UID:e.2606.601
SEQUENCE:3
DTSTAMP:20260421T171851Z
URL:https://members.flintandgeneseechamber.org/events/details/clio-cast-and-crew-presents-the-12-daze-of-christmas-12-12-2013-601
END:VEVENT

END:VCALENDAR
