BEGIN:VCALENDAR
VERSION:2.0
PRODID:-//ChamberMaster//Event Calendar 2.0//EN
METHOD:PUBLISH
X-PUBLISHED-TTL:P3D
REFRESH-INTERVAL:P3D
CALSCALE:GREGORIAN
BEGIN:VEVENT
DTSTART:20140328T233000Z
DTEND:20140330T013000Z
X-MICROSOFT-CDO-ALLDAYEVENT:FALSE
SUMMARY:Clio Cast & Crew Presents ''Monster in the Closet''
DESCRIPTION:Emily's having a sleepover with her best friend when they discover there's a monster in her closet? To investigate further\, they recruit friends to help capture the monster only to find out that all he wants to do is play Emily's new video game. For details\, ticket information and a schedule of upcoming shows visit www.cliocastandcrew.com.
X-ALT-DESC;FMTTYPE=text/html:Emily's having a sleepover with her best friend when they discover there's a monster in her closet? To investigate further\, they recruit friends to help capture the monster only to find out that all he wants to do is play Emily's new video game. For details\, ticket information and a schedule of upcoming shows visit <a title="Clio Cast and Crew" href="http://www.cliocastandcrew.com/showtimes" target="_blank">www.cliocastandcrew.com</a>.
LOCATION:Clio Cast and Crew 2220 West Vienna Rd Clio Michigan 48420
UID:e.2606.808
SEQUENCE:3
DTSTAMP:20260421T125116Z
URL:https://members.flintandgeneseechamber.org/events/details/clio-cast-crew-presents-monster-in-the-closet-03-28-2014-808
END:VEVENT

END:VCALENDAR
