BEGIN:VCALENDAR
VERSION:2.0
PRODID:-//ChamberMaster//Event Calendar 2.0//EN
METHOD:PUBLISH
X-PUBLISHED-TTL:P3D
REFRESH-INTERVAL:P3D
CALSCALE:GREGORIAN
BEGIN:VEVENT
DTSTART:20130702T180000Z
DTEND:20130703T020000Z
X-MICROSOFT-CDO-ALLDAYEVENT:FALSE
SUMMARY:Clio ''Family Fun Day''
DESCRIPTION:Come out to Clio for the 31st Annual "Family Fun Day" featuring family and kids games\, a pet contest\, a pie eating contest\, Tug 'O War games\, a teen dance and much more. The day begins with opening ceremonies/Flag raising at 2 p.m. and ends with a fireworks display at dusk. For a detailed schedule of activities visit www.clio.govoffice.com.
X-ALT-DESC;FMTTYPE=text/html:Come out to Clio for the 31st Annual "Family Fun Day" featuring family and kids games\, a pet contest\, a pie eating contest\, Tug 'O War games\, a teen dance and much more. The day begins with opening ceremonies/Flag raising at 2 p.m. and ends with a fireworks display at dusk. For a detailed schedule of activities visit <a title="Clio Family Fun Day" href="http://www.clio.govoffice.com/" target="_blank">www.clio.govoffice.com</a>.\n\n&nbsp\;
LOCATION:Clio City Park 400 N. Mill Street Clio Michigan
UID:e.2606.40
SEQUENCE:3
DTSTAMP:20260422T004711Z
URL:https://members.flintandgeneseechamber.org/events/details/clio-family-fun-day-07-02-2013-40
END:VEVENT

END:VCALENDAR
