BEGIN:VCALENDAR
VERSION:2.0
PRODID:-//ChamberMaster//Event Calendar 2.0//EN
METHOD:PUBLISH
X-PUBLISHED-TTL:P3D
REFRESH-INTERVAL:P3D
CALSCALE:GREGORIAN
BEGIN:VEVENT
DTSTART;VALUE=DATE:20130830
DTEND;VALUE=DATE:20130901
TRANSP:TRANSPARENT
X-MICROSOFT-CDO-ALLDAYEVENT:TRUE
SUMMARY:Clio Fest
DESCRIPTION:www.cliomusicfest.com
X-ALT-DESC;FMTTYPE=text/html:<a href="www.cliomusicfest.com" target="_blank">www.cliomusicfest.com</a>
LOCATION:
UID:e.2606.41
SEQUENCE:3
DTSTAMP:20260421T233701Z
URL:https://members.flintandgeneseechamber.org/events/details/clio-fest-08-30-2013-41
END:VEVENT

END:VCALENDAR
