BEGIN:VCALENDAR
VERSION:2.0
PRODID:-//ChamberMaster//Event Calendar 2.0//EN
METHOD:PUBLISH
X-PUBLISHED-TTL:P3D
REFRESH-INTERVAL:P3D
CALSCALE:GREGORIAN
BEGIN:VEVENT
DTSTART:20130921T130000Z
DTEND:20130921T160000Z
X-MICROSOFT-CDO-ALLDAYEVENT:FALSE
SUMMARY:''ColorVibe 5K'' at the E.A. Cummings Center
DESCRIPTION:Stretch out for this amazing 5K walk/run where you'll get blasted with numerous colors. Get blasted at every color station throughout the course. After the run/walk have fun at the color throw dance party. Pre-registration required with packet pick-up the day before and morning of the event. Run/walk begins at 9 a.m. with a release of waives every 5 minutes. All ages are welcome to participate and feel free to dress up. For details and registration visit www.thecolorvibe.com/flint.
X-ALT-DESC;FMTTYPE=text/html:Stretch out for this amazing 5K walk/run where you'll get blasted with numerous colors. Get blasted at every color station throughout the course. After the run/walk have fun at the color throw dance party. Pre-registration required with packet pick-up the day before and morning of the event. Run/walk begins at 9 a.m. with a release of waives every 5 minutes. All ages are welcome to participate and feel free to dress up. For details and registration visit <a title="ColorVibe 5K " href="http://www.thecolorvibe.com/flint.php" target="_blank">www.thecolorvibe.com/flint</a>.\n\n&nbsp\;
LOCATION:E.A. Cummings Center 6130 E. Mt. Morris Road Mt. Morris Michigan
UID:e.2606.494
SEQUENCE:3
DTSTAMP:20260421T220303Z
URL:https://members.flintandgeneseechamber.org/events/details/colorvibe-5k-at-the-e-a-cummings-center-09-21-2013-494
END:VEVENT

END:VCALENDAR
