BEGIN:VCALENDAR
VERSION:2.0
PRODID:-//ChamberMaster//Event Calendar 2.0//EN
METHOD:PUBLISH
X-PUBLISHED-TTL:P3D
REFRESH-INTERVAL:P3D
CALSCALE:GREGORIAN
BEGIN:VEVENT
DTSTART:20140812T230000Z
DTEND:20140813T010000Z
X-MICROSOFT-CDO-ALLDAYEVENT:FALSE
SUMMARY:Comets & Shooting Stars! at Clio Amphitheater
DESCRIPTION:Bill Haley's Youngest Drummer\, Joey Kay & His Comets\, will perform such hits as “Rock Around the Clock”\,  “Shake\, Rattle & Roll” and “See Ya Later Alligator.”  They tour the world and still perform to ensure that the music\, as it was\, will continue into the future for many generations to enjoy. Gates open at 6 p.m. For details and a schedule of upcoming shows visit www.cliogovoffice.com.
X-ALT-DESC;FMTTYPE=text/html:Bill Haley's Youngest Drummer\, Joey Kay &amp\; His Comets\, will perform such hits as “Rock Around the Clock”\,  “Shake\, Rattle &amp\; Roll” and “See Ya Later Alligator.”  They tour the world and still perform to ensure that the music\, as it was\, will continue into the future for many generations to enjoy. Gates open at 6 p.m. For details and a schedule of upcoming shows visit <a title="Clio Amphitheater" href="http://www.clio.govoffice.com/index.asp?SEC=8C018E69-BDAB-4E5D-BDDF-D119AE895A2A&amp\;Type=B_BASIC" target="_blank">www.cliogovoffice.com</a>.
LOCATION:Clio Amphitheater 301 Rogers Lodge Drive Clio Michigan
UID:e.2606.883
SEQUENCE:3
DTSTAMP:20260421T095747Z
URL:https://members.flintandgeneseechamber.org/events/details/comets-shooting-stars-at-clio-amphitheater-08-12-2014-883
END:VEVENT

END:VCALENDAR
