BEGIN:VCALENDAR
VERSION:2.0
PRODID:-//ChamberMaster//Event Calendar 2.0//EN
METHOD:PUBLISH
X-PUBLISHED-TTL:P3D
REFRESH-INTERVAL:P3D
CALSCALE:GREGORIAN
BEGIN:VEVENT
DTSTART:20130905T230000Z
DTEND:20130906T003000Z
X-MICROSOFT-CDO-ALLDAYEVENT:FALSE
SUMMARY:Congressman Dan Kildee Speaking on ''Perils of Municipalities Filing for Bankruptcy''
DESCRIPTION:The Roger Sharpe Great Speaker Series presents Congressman Dan Kildee Speaking on "Perils of Municipalities filing for Bankruptcy." Refreshments will follow the program. This is a free event and open to the public. For additional information contact Andy Everman at (810) 659-6112 or aeverman@umflint.edu.
X-ALT-DESC;FMTTYPE=text/html:The Roger Sharpe Great Speaker Series presents Congressman Dan Kildee Speaking on "Perils of Municipalities filing for Bankruptcy." Refreshments will follow the program. This is a free event and open to the public. For additional information contact Andy Everman at (810) 659-6112 or aeverman@umflint.edu.\n\n&nbsp\;\n\n&nbsp\;\n\n&nbsp\;
LOCATION:St. Paul's Episcopal Church 711 South Saginaw Street Flint Michigan
UID:e.2606.454
SEQUENCE:3
DTSTAMP:20260421T220511Z
URL:https://members.flintandgeneseechamber.org/events/details/congressman-dan-kildee-speaking-on-perils-of-municipalities-filing-for-bankruptcy-09-05-2013-454
END:VEVENT

END:VCALENDAR
