BEGIN:VCALENDAR
VERSION:2.0
PRODID:-//ChamberMaster//Event Calendar 2.0//EN
METHOD:PUBLISH
X-PUBLISHED-TTL:P3D
REFRESH-INTERVAL:P3D
CALSCALE:GREGORIAN
BEGIN:VEVENT
DTSTART:20251023T123000Z
DTEND:20251023T140000Z
X-MICROSOFT-CDO-ALLDAYEVENT:FALSE
SUMMARY:Connect Over Coffee @ Golden Corral
DESCRIPTION:Start your day with some great networking\, a coffee\, and some refreshments! Hosted by Golden Corral\, come hungry & have some breakfast with us before you start your work day! It will be a wonderful time to connect with friends\, colleagues\, and fellow chamber members. You'll be sure to have some good conversations that will get you going in the right direction for the rest of the day.
X-ALT-DESC;FMTTYPE=text/html:<span style="color: rgb(51\, 51\, 51)\; font-family: sans-serif\, Arial\, Verdana\, &quot\;Trebuchet MS&quot\;\; font-size: 13px\; background-color: rgb(255\, 255\, 255)\;">Start your day with some great networking\, a coffee\, and some refreshments! Hosted by Golden Corral\, come hungry &amp\; have some breakfast with us before you start your work day! It will be a wonderful time to connect with friends\, colleagues\, and fellow chamber members. You&#39\;ll be sure to have some good conversations that will get you going in the right direction for the rest of the day.&nbsp\;</span>
LOCATION:Golden Corral 4200 Miller Rd Flint\, MI 48507
UID:e.2606.20097
SEQUENCE:3
DTSTAMP:20260421T205931Z
URL:https://members.flintandgeneseechamber.org/events/details/connect-over-coffee-golden-corral-20097
END:VEVENT

END:VCALENDAR
