BEGIN:VCALENDAR
VERSION:2.0
PRODID:-//ChamberMaster//Event Calendar 2.0//EN
METHOD:PUBLISH
X-PUBLISHED-TTL:P3D
REFRESH-INTERVAL:P3D
CALSCALE:GREGORIAN
BEGIN:VEVENT
DTSTART:20140326T120000Z
DTEND:20140326T140000Z
X-MICROSOFT-CDO-ALLDAYEVENT:FALSE
SUMMARY:Costco Breakfast Reception for Chamber Members
DESCRIPTION:All Flint & Genesee Chamber Members are invited to a breakfast reception at the Green Oak Township Costco!\n\nRefreshments will be served. Enjoy a special offer and exclusive member coupons when you join Costco at this event.  Join as a new Executive Member and get a $20 Costco Cash Card.  Or\, join as a new Gold Star Member and get a $10 Costco Cash Card.  Download your ticket to savings here.\n\nFor more information\, please direct any questions to Costco Green Oak Marketing Department at (810) 220-8993.
X-ALT-DESC;FMTTYPE=text/html:All Flint &amp\; Genesee Chamber Members are invited to a breakfast reception at the Green Oak Township Costco!\n\nRefreshments will be served. Enjoy a special offer and exclusive member coupons when you join Costco at this event.  Join as a new Executive Member and get a $20 Costco Cash Card.  Or\, join as a new Gold Star Member and get a $10 Costco Cash Card.  <a href="http://www.flintandgenesee.org/wp-content/uploads/2014/03/ChamberBreakfast_3-26.pdf">Download your ticket to savings here</a>.\n\nFor more information\, please direct any questions to Costco Green Oak Marketing Department at (810) 220-8993.
LOCATION:Costco - Green Oak Township 6700 Whitmore Lake Road Brighton MI 48116
UID:e.2606.852
SEQUENCE:3
DTSTAMP:20260421T124802Z
URL:https://members.flintandgeneseechamber.org/events/details/costco-breakfast-reception-for-chamber-members-03-26-2014-852
END:VEVENT

END:VCALENDAR
