BEGIN:VCALENDAR
VERSION:2.0
PRODID:-//ChamberMaster//Event Calendar 2.0//EN
METHOD:PUBLISH
X-PUBLISHED-TTL:P3D
REFRESH-INTERVAL:P3D
CALSCALE:GREGORIAN
BEGIN:VEVENT
DTSTART:20130724T140000Z
DTEND:20130728T210000Z
X-MICROSOFT-CDO-ALLDAYEVENT:FALSE
SUMMARY:Crossroads Village & Huckleberry Railroad
DESCRIPTION:Go back to a time when things were a whole lot simpler. Crossroads Village is an authentic Great Lakes town from the turn of the last century\, with over 34 historic structures and a thriving community. Ride the Huckleberry Railroad\, take a scenic ride on the Genesee Belle\, a replica of the paddlewheel riverboats that were popular during Mark Twain’s time\, catch a show at the Colwell Opera House or learn a trade from one of the Village’s craftspeople. On July 27 & 28\, characters from our favorite 19th century stories come to life during "Literary" weekend. Meet old friends such as Alice\, Ebenezer Scrooge and Captain Ahab as they step from the pages of classic books. For details and a schedule of upcoming themed weekends visit www.geneseecountyparks.org.
X-ALT-DESC;FMTTYPE=text/html:Go back to a time when things were a whole lot simpler. Crossroads Village is an authentic Great Lakes town from the turn of the last century\, with over 34 historic structures and a thriving community. Ride the Huckleberry Railroad\, take a scenic ride on the Genesee Belle\, a replica of the paddlewheel riverboats that were popular during Mark Twain’s time\, catch a show at the Colwell Opera House or learn a trade from one of the Village’s craftspeople. On July 27 &amp\; 28\, characters from our favorite 19th century stories come to life during "Literary" weekend. Meet old friends such as Alice\, Ebenezer Scrooge and Captain Ahab as they step from the pages of classic books. For details and a schedule of upcoming themed weekends visit <a title="Crossroads Village &amp\; Huckleberry Railroad" href="http://www.geneseecountyparks.org/pages/crossroads" target="_blank">www.geneseecountyparks.org</a>.
LOCATION:Crossroads Village & Huckleberry Railroad 6140 Bray Road Flint Michigan
UID:e.2606.244
SEQUENCE:3
DTSTAMP:20260422T005623Z
URL:https://members.flintandgeneseechamber.org/events/details/crossroads-village-huckleberry-railroad-07-24-2013-244
END:VEVENT

END:VCALENDAR
