BEGIN:VCALENDAR
VERSION:2.0
PRODID:-//ChamberMaster//Event Calendar 2.0//EN
METHOD:PUBLISH
X-PUBLISHED-TTL:P3D
REFRESH-INTERVAL:P3D
CALSCALE:GREGORIAN
BEGIN:VEVENT
DTSTART:20130828T140000Z
DTEND:20130902T210000Z
X-MICROSOFT-CDO-ALLDAYEVENT:FALSE
SUMMARY:Crossroads Village & Huckleberry Railroad
DESCRIPTION:Go back to a time when things were a whole lot simpler. Crossroads Village is an authentic Great Lakes town from the turn of the last century\, with over 34 historic structures and a thriving community. Ride the Huckleberry Railroad\, take a scenic ride on the Genesee Belle\, a replica of the paddlewheel riverboats that were popular during Mark Twain’s time\, catch a show at the Colwell Opera House or learn a trade from one of the Village’s craftspeople. On August 31\, celebrate the unofficial end of summer by selecting your favorite Village artisans. There will be a special one-day auction of their crafts. Then on September 2\, admission to the Village is just $1.00! Bring family and friends and enjoy the Village shops\, historic homes and trade buildings one last time before they close out the summer. Amusement rides are just $1.00 too along with tasty food specials all day. For details and a peek view at Crossroad's upcoming Halloween and Christmas schedules visit www.geneseecountyparks.org.
X-ALT-DESC;FMTTYPE=text/html:Go back to a time when things were a whole lot simpler. Crossroads Village is an authentic Great Lakes town from the turn of the last century\, with over 34 historic structures and a thriving community. Ride the Huckleberry Railroad\, take a scenic ride on the Genesee Belle\, a replica of the paddlewheel riverboats that were popular during Mark Twain’s time\, catch a show at the Colwell Opera House or learn a trade from one of the Village’s craftspeople. On August 31\, celebrate the unofficial end of summer by selecting your favorite Village artisans. There will be a special one-day auction of their crafts. Then on September 2\, admission to the Village is just $1.00! Bring family and friends and enjoy the Village shops\, historic homes and trade buildings one last time before they close out the summer. Amusement rides are just $1.00 too along with tasty food specials all day. For details and a peek view at Crossroad's upcoming Halloween and Christmas schedules visit <a title="Crossroads Village &amp\; Huckleberry Railroad" href="http://www.geneseecountyparks.org/pages/crossroads" target="_blank">www.geneseecountyparks.org</a>.
LOCATION:Crossroads Village & Huckleberry Railroad 6140 Bray Road Flint Michigan
UID:e.2606.249
SEQUENCE:3
DTSTAMP:20260421T220253Z
URL:https://members.flintandgeneseechamber.org/events/details/crossroads-village-huckleberry-railroad-08-28-2013-249
END:VEVENT

END:VCALENDAR
