BEGIN:VCALENDAR
VERSION:2.0
PRODID:-//ChamberMaster//Event Calendar 2.0//EN
METHOD:PUBLISH
X-PUBLISHED-TTL:P3D
REFRESH-INTERVAL:P3D
CALSCALE:GREGORIAN
BEGIN:VEVENT
DTSTART:20190601T140000Z
DTEND:20190601T210000Z
X-MICROSOFT-CDO-ALLDAYEVENT:FALSE
SUMMARY:Crossroads Village & Huckleberry Railroad - Genesee County Day
DESCRIPTION:Travel back to a time when things were a whole lot simpler. Crossroads Village is a Great Lakes town from the turn of the century with 34 historic structures and a thriving community. Enjoy a 40-minute journey on an authentic Baldwin Steam locomotive\, the Huckleberry Railroad\, take a scenic ride on the Genesee Belle\, a replica of the paddlewheel riverboats that were popular during Mark Twain's time\, catch a show at the Colwell Opera House or learn a trade from one of the village's craftspeople. Today\, is Family Fun Day for Genesee County residents\, from 10 a.m. to 2 p.m.\, with free village admission. Also\, enjoy children activities by Genesee County Departments. It is recommended that Huckleberry Railroad train tickets by purchased in advance as the train often sells out. For more information and a schedule of Crossroads' upcoming themed weekends visit geneseecountyparks.org.
X-ALT-DESC;FMTTYPE=text/html:Travel back to a time when things were a whole lot simpler. Crossroads Village is a Great Lakes town from the turn of the century with 34 historic structures and a thriving community. Enjoy a 40-minute journey on an authentic Baldwin Steam locomotive\, the Huckleberry Railroad\, take a scenic ride on the Genesee Belle\, a replica of the paddlewheel riverboats that were popular during Mark Twain&#39\;s time\, catch a show at the Colwell Opera House or learn a trade from one of the village&#39\;s craftspeople. Today\, is Family Fun Day for Genesee County residents\, from 10 a.m. to 2 p.m.\, with free village admission. Also\, enjoy children activities by Genesee County Departments. It is recommended that Huckleberry Railroad train tickets by purchased in advance as the train often sells out. For more information and a schedule of Crossroads&#39\; upcoming themed weekends visit <a href="http://geneseecountyparks.org/crossroads-village/" target="_blank">geneseecountyparks.org</a>.&nbsp\;
LOCATION:Crossroads Village & Huckleberry Railroad 6140 Bray Road Flint\, MI 48505
UID:e.2606.9431
SEQUENCE:3
DTSTAMP:20260421T085518Z
URL:https://members.flintandgeneseechamber.org/events/details/crossroads-village-huckleberry-railroad-genesee-county-day-9431
END:VEVENT

END:VCALENDAR
