BEGIN:VCALENDAR
VERSION:2.0
PRODID:-//ChamberMaster//Event Calendar 2.0//EN
METHOD:PUBLISH
X-PUBLISHED-TTL:P3D
REFRESH-INTERVAL:P3D
CALSCALE:GREGORIAN
BEGIN:VEVENT
DTSTART:20240529T153000Z
DTEND:20240529T170000Z
X-MICROSOFT-CDO-ALLDAYEVENT:FALSE
SUMMARY:Cyber Security & Compliance Awareness
DESCRIPTION:Learn how to protect yourself and your company from cyber-attacks and liability in this security awareness training session. Designed to help employees understand the role that they play in helping combat information security breaches\, this training will give individuals the knowledge about new compliance ordinances to ensure your organization is compliant with your industry's guidelines and standards.  During the training\, participants will learn what training is needed for their employees to help mitigate risk and what "compliance" means to you.\n\n\n\nFacilitated by: Brandon Hartke\, CEO\, XFER
X-ALT-DESC;FMTTYPE=text/html:<span style="color:black\;"><span style="font-family:arial\,sans-serif\;"><span style="font-size:12.0pt\;">Learn how to protect yourself and your company from cyber-attacks and liability in this security awareness training session. Designed to help employees understand the role that they play in helping combat information security breaches\, this training will give individuals the knowledge about new compliance ordinances to ensure your organization is compliant with your industry&rsquo\;s guidelines and standards.&nbsp\; During the training\, participants will learn what training is needed for their employees to help mitigate risk and what &ldquo\;compliance&rdquo\; means to you.</span></span></span><br />\n<br />\n<span style="font-family:arial\,sans-serif\;"><span style="font-size:12.0pt\;">Facilitated by: Brandon Hartke\, CEO\, XFER </span></span>
LOCATION:Ferris Wheel Flint 615 Saginaw St. Flint\, MI 48502
UID:e.2606.18184
SEQUENCE:3
DTSTAMP:20260421T151055Z
URL:https://members.flintandgeneseechamber.org/events/details/cyber-security-compliance-awareness-18184
END:VEVENT

END:VCALENDAR
