BEGIN:VCALENDAR
VERSION:2.0
PRODID:-//ChamberMaster//Event Calendar 2.0//EN
METHOD:PUBLISH
X-PUBLISHED-TTL:P3D
REFRESH-INTERVAL:P3D
CALSCALE:GREGORIAN
BEGIN:VEVENT
DTSTART:20130411T220000Z
DTEND:20130412T020000Z
X-MICROSOFT-CDO-ALLDAYEVENT:FALSE
SUMMARY:Dancing with the Local Stars
DESCRIPTION:Grand Blanc Chamber and local Chambers in Genesee County are teaming up to bring back the "Teddy Bear Patrol" for the Genesee County Law enforcement agencies. The event is a fundraiser   Eight local celebrities are now taking dance lessons by Bob & Beverly Budzynski's team of professional dancers to showcase that evening.\n\nDancing with the Local Stars is brought to you by the Grand Blanc Chamber\, Flint & Genesee Chamber of Commerce and other local Chambers of Genesee County.   Local law enforcement uses the teddy bears to  give to children that are involved in some type of trauma.  This program is no longer funded so the local chambers are teaming up to provide the teddy bears for officeres so when children find themselves in the back seat of an emergency vehicle the bear can be given to them to help aleave the stressful situation. WE NEED YOU! Our community to help raise funds to purchase "Back Seat Bears" for our local law enforcement agencies. Please do not bring teddy bears to the event.\n\nEvening agenda:  Celebrity Dance competition\, hors d'oeuvres\, auction and dueling pianos.\n\nSponsorship opportunities available please contact Jet Kilmer at (810) 695-4222. Tickets are $15 in advance/$20 at the door (seating is limited). For tickets contact Jet Kilmer or Debbie Garrison at (810)600-1416.\n\nFor more information: facebook.com/pages/Teddy-Bear-Patrol/306134852841696
X-ALT-DESC;FMTTYPE=text/html:Grand Blanc Chamber and local Chambers in Genesee County are teaming up to bring back the "Teddy Bear Patrol" for the Genesee County Law enforcement agencies. The event is a fundraiser   Eight local celebrities are now taking dance lessons by Bob &amp\; Beverly Budzynski's team of professional dancers to showcase that evening.\n\nDancing with the Local Stars is brought to you by the Grand Blanc Chamber\, Flint &amp\; Genesee Chamber of Commerce and other local Chambers of Genesee County.   Local law enforcement uses the teddy bears to  give to children that are involved in some type of trauma.  This program is no longer funded so the local chambers are teaming up to provide the teddy bears for officeres so when children find themselves in the back seat of an emergency vehicle the bear can be given to them to help aleave the stressful situation. WE NEED YOU! Our community to help raise funds to purchase "Back Seat Bears" for our local law enforcement agencies. Please do not bring teddy bears to the event.\n\nEvening agenda:  Celebrity Dance competition\, hors d'oeuvres\, auction and dueling pianos.\n\nSponsorship opportunities available please contact Jet Kilmer at (810) 695-4222. Tickets are $15 in advance/$20 at the door (seating is limited). For tickets contact Jet Kilmer or Debbie Garrison at (810)600-1416.\n\nFor more information: <a href="http://www.facebook.com/pages/Teddy-Bear-Patrol/306134852841696" target="_blank">facebook.com/pages/Teddy-Bear-Patrol/306134852841696</a>
LOCATION:The Jewel of Grand Blanc 5270 Perry Road Grand Blanc MI 48439
UID:e.2606.120
SEQUENCE:3
DTSTAMP:20260422T055526Z
URL:https://members.flintandgeneseechamber.org/events/details/dancing-with-the-local-stars-04-11-2013-120
END:VEVENT

END:VCALENDAR
