BEGIN:VCALENDAR
VERSION:2.0
PRODID:-//ChamberMaster//Event Calendar 2.0//EN
METHOD:PUBLISH
X-PUBLISHED-TTL:P3D
REFRESH-INTERVAL:P3D
CALSCALE:GREGORIAN
BEGIN:VEVENT
DTSTART:20131022T130000Z
DTEND:20131022T143000Z
X-MICROSOFT-CDO-ALLDAYEVENT:FALSE
SUMMARY:Davenport University! 2013 - Michigan Talent Connect Recruiting Seminars for Employers
DESCRIPTION:2013 - Michigan Talent Connect Recruiting Seminars for Employers!\nDavenport University and our community partners\, in collaboration with the MEDC are offering these informative recruiting training seminars this fall. Employers state-wide will learn how to reach the talent they seek through Pure Michigan Talent Connect and University job boards like "DUCareerNET."\n\nThe Flint Event will take place on:\n\nOctober 22\, 2013 from 9 am to 10:30 am at the Davenport University Flint Campus located on 4318 Miller Road.\n\nFor more information or to register\, please visit http://www.davenport.edu/career-services/employers/events/employer-pure-michigan-registration\n\n \n\nTanya Primeau - MBA\, GCDF\, DCF\n\nDirector of Career Services - East\n\nDavenport University\n\n810-396-3641\n\n \n\nIf you have been hired\, report your success at I'm Hired.\n\n \n\nIf you would like to comment on the service you received from me please follow this link:  \n\ngreat.davenport.edu\n\n \n\nCheck us out on Facebook @ http://www.facebook.com/DUCareers\n\nVisit the Career Services Website for more information at - http://production.davenport.edu/career-services\n\nAre you an Alumni Interested in Getting Connected to DU? Check us out at - http://www.dualum.com/
X-ALT-DESC;FMTTYPE=text/html:<h3>2013 - Michigan Talent Connect Recruiting Seminars for Employers!</h3>\nDavenport University and our community partners\, in collaboration with the MEDC are offering these informative recruiting training seminars this fall. Employers state-wide will learn how to reach the talent they seek through <a href="http://www.mitalent.org/" target="_blank">Pure Michigan Talent Connect</a> and University job boards like "DUCareerNET."\n\nThe Flint Event will take place on:\n\nOctober 22\, 2013 from 9 am to 10:30 am at the Davenport University Flint Campus located on 4318 Miller Road.\n\nFor more information or to register\, please visit <a href="http://www.davenport.edu/career-services/employers/events/employer-pure-michigan-registration">http://www.davenport.edu/career-services/employers/events/employer-pure-michigan-registration</a>\n\n<strong> </strong>\n\n<strong>Tanya Primeau - MBA\, GCDF\, DCF</strong>\n\n<strong>Director of Career Services - East</strong>\n\n<strong>Davenport University</strong>\n\n<strong>810-396-3641</strong>\n\n&nbsp\;\n\n<strong>If you have been hired\, report your success at <a href="http://www.davenport.edu/career-services/report-your-success" target="_blank">I'm Hired</a>.</strong>\n\n<strong> </strong>\n\n<strong><em>If you would like to comment on the service you received from me please follow this link:  </em></strong>\n\n<strong><a href="http://great.davenport.edu/" target="_blank">great.davenport.edu</a></strong>\n\n&nbsp\;\n\n<strong>Check us out on Facebook @ <a href="http://www.facebook.com/DUCareers" target="_blank">http://www.facebook.com/DUCareers</a></strong>\n\n<strong>Visit the Career Services Website for more information at - <a href="http://production.davenport.edu/career-services" target="_blank">http://production.davenport.edu/career-services</a></strong>\n\n<strong>Are you an Alumni Interested in Getting Connected to DU? Check us out at - <a href="http://www.dualum.com/" target="_blank">http://www.dualum.com/</a></strong>\n\n<strong> </strong>
LOCATION:Davenport University 4318 Miller Rd Flint Michigan 48507
UID:e.2606.578
SEQUENCE:3
DTSTAMP:20260421T203255Z
URL:https://members.flintandgeneseechamber.org/events/details/davenport-university-2013-michigan-talent-connect-recruiting-seminars-for-employers-10-22-2013-578
END:VEVENT

END:VCALENDAR
