BEGIN:VCALENDAR
VERSION:2.0
PRODID:-//ChamberMaster//Event Calendar 2.0//EN
METHOD:PUBLISH
X-PUBLISHED-TTL:P3D
REFRESH-INTERVAL:P3D
CALSCALE:GREGORIAN
BEGIN:VEVENT
DTSTART:20140503T170000Z
DTEND:20140503T200000Z
X-MICROSOFT-CDO-ALLDAYEVENT:FALSE
SUMMARY:Day of Play
DESCRIPTION:The Friends of Max Brandon Park will partner with the Crim Fitness Foundation's AmeriCorp service members\, Berston Bicycle Club and University of Michigan - Flint student groups to provide fun and exciting games throughout Max Brandon Park. The afternoon will include music\, prizes\, nutrition information for parents and games and activities such as Frisbee\, parachute games\, jump rope\, hop-scotch\, relay races\, interactive storytelling\, basketball and Hula Hooping. All ages are encouraged to participate and there is no cost to attend. Light refreshments will be provided. For more information visit www.crim.org.
X-ALT-DESC;FMTTYPE=text/html:The Friends of Max Brandon Park will partner with the Crim Fitness Foundation's AmeriCorp service members\, Berston Bicycle Club and University of Michigan - Flint student groups to provide fun and exciting games throughout Max Brandon Park. The afternoon will include music\, prizes\, nutrition information for parents and games and activities such as Frisbee\, parachute games\, jump rope\, hop-scotch\, relay races\, interactive storytelling\, basketball and Hula Hooping. All ages are encouraged to participate and there is no cost to attend. Light refreshments will be provided. For more information visit <a title="Crim Fitness Foundation" href="http://www.crim.org/" target="_blank">www.crim.org</a>.
LOCATION:Max Brandon Park 3606 Dupont Street Flint Michigan
UID:e.2606.909
SEQUENCE:3
DTSTAMP:20260421T102106Z
URL:https://members.flintandgeneseechamber.org/events/details/day-of-play-05-03-2014-909
END:VEVENT

END:VCALENDAR
