BEGIN:VCALENDAR
VERSION:2.0
PRODID:-//ChamberMaster//Event Calendar 2.0//EN
METHOD:PUBLISH
X-PUBLISHED-TTL:P3D
REFRESH-INTERVAL:P3D
CALSCALE:GREGORIAN
BEGIN:VEVENT
DTSTART:20130816T130000Z
DTEND:20130818T210000Z
X-MICROSOFT-CDO-ALLDAYEVENT:FALSE
SUMMARY:''Day Out With Thomas'' at Crossroads Village & Huckleberry Railroad
DESCRIPTION:Spend a day of family fun with Thomas the Tank Engine on his Go Go Thomas tour. Meet Thomas and his friends\, including Sir Topham Hatt who is straight from the island of Sodor. Take a Thomas train ride and join in a variety of children's activities. Train rides will run from 10 a.m. to 3 p.m.\n\nCrossroads Village is an authentic Great Lakes town from the turn of the last century\, with over 34 historic structures and a thriving community. Ride the Huckleberry Railroad\, take a scenic ride on the Genesee Belle\, a replica of the paddlewheel riverboats that were popular during Mark Twain’s time\, catch a show at the Colwell Opera House or learn a trade from one of the Village’s craftspeople. For details and a schedule of upcoming themed weekends visit www.geneseecountyparks.org.
X-ALT-DESC;FMTTYPE=text/html:Spend a day of family fun with Thomas the Tank Engine on his Go Go Thomas tour. Meet Thomas and his friends\, including Sir Topham Hatt who is straight from the island of Sodor. Take a Thomas train ride and join in a variety of children's activities. Train rides will run from 10 a.m. to 3 p.m.\n\nCrossroads Village is an authentic Great Lakes town from the turn of the last century\, with over 34 historic structures and a thriving community. Ride the Huckleberry Railroad\, take a scenic ride on the Genesee Belle\, a replica of the paddlewheel riverboats that were popular during Mark Twain’s time\, catch a show at the Colwell Opera House or learn a trade from one of the Village’s craftspeople. For details and a schedule of upcoming themed weekends visit <a title="Crossroads Village &amp\; Huckleberry Railroad" href="http://www.geneseecountyparks.org/pages/DayOutWithThomas" target="_blank">www.geneseecountyparks.org</a>.
LOCATION:Crossroads Village & Huckleberry Railroad 6140 Bray Road Flint Michigan
UID:e.2606.247
SEQUENCE:3
DTSTAMP:20260421T234429Z
URL:https://members.flintandgeneseechamber.org/events/details/day-out-with-thomas-at-crossroads-village-huckleberry-railroad-08-16-2013-247
END:VEVENT

END:VCALENDAR
