BEGIN:VCALENDAR
VERSION:2.0
PRODID:-//ChamberMaster//Event Calendar 2.0//EN
METHOD:PUBLISH
X-PUBLISHED-TTL:P3D
REFRESH-INTERVAL:P3D
CALSCALE:GREGORIAN
BEGIN:VEVENT
DTSTART:20131204T220000Z
DTEND:20131205T010000Z
X-MICROSOFT-CDO-ALLDAYEVENT:FALSE
SUMMARY:DecemBRRR ChamBRRR: Multi-Chamber Networking Event
DESCRIPTION:Please join us for a Multi-Chamber of Commerce Networking Event with the Clio\, Birch Run\, Mt. Morris and Flint & Genesee chambers. No speakers or agenda\, just fun\, food and networking.\n\nCost: $10 at the door.  Includes DJ\, door prizes\, buffet and cash bar.\n\nFor more information contact: Susana Wight at (810) 600-1408 or swight@flintandgenesee.org or Debbie Garrison at (810) 600-1416 or dgarrison@flintandgenesee.org.
X-ALT-DESC;FMTTYPE=text/html:Please join us for a Multi-Chamber of Commerce Networking Event with the Clio\, Birch Run\, Mt. Morris and Flint &amp\; Genesee chambers. No speakers or agenda\, just fun\, food and networking.\n\nCost: $10 at the door.  Includes DJ\, door prizes\, buffet and cash bar.\n\nFor more information contact: Susana Wight at (810) 600-1408 or <a href="mailto:swight@flintandgenesee.org">swight@flintandgenesee.org</a> or Debbie Garrison at (810) 600-1416 or <a href="mailto:dgarrison@flintandgenesee.org">dgarrison@flintandgenesee.org</a>.
LOCATION:Clio Roadhouse Bar and Grill 2183 W. Vienna Rd. Clio MI 48420
UID:e.2606.621
SEQUENCE:3
DTSTAMP:20260421T171307Z
URL:https://members.flintandgeneseechamber.org/events/details/decembrrr-chambrrr-multi-chamber-networking-event-12-04-2013-621
END:VEVENT

END:VCALENDAR
