BEGIN:VCALENDAR
VERSION:2.0
PRODID:-//ChamberMaster//Event Calendar 2.0//EN
METHOD:PUBLISH
X-PUBLISHED-TTL:P3D
REFRESH-INTERVAL:P3D
CALSCALE:GREGORIAN
BEGIN:VEVENT
DTSTART:20140519T173000Z
DTEND:20140519T193000Z
X-MICROSOFT-CDO-ALLDAYEVENT:FALSE
SUMMARY:Demystifying Michigan’s Personal Property Tax Reform
DESCRIPTION:The Public Policy Committee of the Flint & Genesee Chamber of Commerce presents a forum\, Demystifying Michigan’s Personal Property Tax Reform\,  to discuss the details of Personal Property Tax Reform as it relates to your business and your community.\nThe featured speaker will be Lt. Governor Brian Calley and an expert panel of representatives from Plante Moran and Lewis & Knopf.\nSpace is limited and pre-registration is required. Light refreshments will be served.\nCost:  Free to members of all participating chambers • $10 for non-members\nFor more information\, please contact Susana Wight at (810) 600-1408 or swight@flintandgenesee.org
X-ALT-DESC;FMTTYPE=text/html:<p style="text-align: left\;" align="center">The Public Policy Committee of the Flint &amp\; Genesee Chamber of Commerce presents a forum\, <b>Demystifying Michigan’s Personal Property Tax Reform\, </b> to discuss the details of Personal Property Tax Reform as it relates to your business and your community.</p>\n<p style="text-align: left\;" align="center">The featured speaker will be Lt. Governor Brian Calley and an expert panel of representatives from Plante Moran and Lewis &amp\; Knopf.</p>\n<p style="text-align: left\;" align="center">Space is limited and pre-registration is required. Light refreshments will be served.</p>\n<p style="text-align: left\;" align="center">Cost:  Free to members of all participating chambers • $10 for non-members</p>\n<p style="text-align: left\;" align="center">For more information\, please contact Susana Wight at (810) 600-1408 or <a href="mailto:swight@flintandgenesee.org">swight@flintandgenesee.org</a></p>
LOCATION:Woodfield Country Club 10200 Woodfield Drive Grand Blanc MI 48439
UID:e.2606.867
SEQUENCE:3
DTSTAMP:20260421T104522Z
URL:https://members.flintandgeneseechamber.org/events/details/demystifying-michigan-s-personal-property-tax-reform-05-19-2014-867
END:VEVENT

END:VCALENDAR
