BEGIN:VCALENDAR
VERSION:2.0
PRODID:-//ChamberMaster//Event Calendar 2.0//EN
METHOD:PUBLISH
X-PUBLISHED-TTL:P3D
REFRESH-INTERVAL:P3D
CALSCALE:GREGORIAN
BEGIN:VEVENT
DTSTART:20140514T120000Z
DTEND:20140514T150000Z
X-MICROSOFT-CDO-ALLDAYEVENT:FALSE
SUMMARY:Disability Summit
DESCRIPTION:Putting Workforce Excellence & Diversity to Work:  \n\nThe Business to Business Summit will focus on effective strategies to increase your company’s revenues and create a diverse workforce.\n\nExecutives will share strategies designed for leaders of small\, medium and large businesses that emphasize the value of diversifying your workforce and market place.\n\nKeynote Speaker:  Jeanie Stone\, Vice President\, Trijicon\, Inc. – a leading Michigan business with over $30M in federal contracts.\n\nInteractive Panel Session:  Local early adopters who have experienced significant returns from committing to Workforce Excellence & Diversity.\n\nResource Session:  Kathleen Lee\, National EARN Consultant –practical\, effective and achievable take away strategies and resources.\n\nThis event is free\, but registration is required. For special accommodations or questions\, please email vickis@disnetwork.org or hkale@flintandgenesee.org
X-ALT-DESC;FMTTYPE=text/html:<b>Putting Workforce Excellence &amp\; Diversity to Work:</b><b>  </b>\n\nThe Business to Business Summit will focus on effective strategies to increase your company’s revenues and create a diverse workforce.\n\n<strong>Executives will share strategies designed for leaders of small\, medium and large businesses that emphasize the value of diversifying your workforce and market place.</strong>\n\n<strong></strong><b>Keynote Speaker</b>:  Jeanie Stone\, Vice President\, Trijicon\, Inc. – a leading Michigan business with over $30M in federal contracts.\n\n<b>Interactive Panel Session</b>:  Local early adopters who have experienced significant returns from committing to Workforce Excellence &amp\; Diversity.\n\n<b>Resource Session</b>:  Kathleen Lee\, National EARN Consultant –practical\, effective and achievable take away strategies and resources.\n\nThis event is free\, but registration is required. For special accommodations or questions\, please email vickis@disnetwork.org or hkale@flintandgenesee.org\n\n&nbsp\;
LOCATION:Holiday Inn Gateway Centre 5353 Gateway Center Flint MI 48507
UID:e.2606.860
SEQUENCE:3
DTSTAMP:20260421T095421Z
URL:https://members.flintandgeneseechamber.org/events/details/disability-summit-05-14-2014-860
END:VEVENT

END:VCALENDAR
