BEGIN:VCALENDAR
VERSION:2.0
PRODID:-//ChamberMaster//Event Calendar 2.0//EN
METHOD:PUBLISH
X-PUBLISHED-TTL:P3D
REFRESH-INTERVAL:P3D
CALSCALE:GREGORIAN
BEGIN:VEVENT
DTSTART:20260128T163000Z
DTEND:20260128T180000Z
X-MICROSOFT-CDO-ALLDAYEVENT:FALSE
SUMMARY:Disability Works Community Meeting
DESCRIPTION:Join us for the first 2026 Community Meeting of the Disability Works Committee! If you are an employer who hires or is thinking of hiring people with disabilities\, you'll come away with great resources to help you and your employees. The Disability Works Committee is a multi-organizational collaborative focused on making it easier for employers to hire and retain people with disabilities\, and helping people with disabilities find meaningful employment. \n\n\n\nAt this meeting\, you'll hear experts from Peckham Industries and the GISD's Transition Center dispel myths about disabilities\, and learn more about what qualifies as a disability. You'll also have the chance to talk with other employers\, sharing challenges and best practices. \n\n\n\nThis event is free and open to all employers and community partners throughout Flint & Genesee. Lunch will be provided. Registration is limited to 50 attendees\, so secure your spot today!
X-ALT-DESC;FMTTYPE=text/html:Join us for the first 2026 Community Meeting of the Disability Works Committee! If you are an employer who hires or is thinking of hiring people with disabilities\, you&#39\;ll come away with great resources to help you and your employees. The Disability Works Committee is a multi-organizational collaborative focused on making it easier for employers to hire and retain people with disabilities\, and&nbsp\;helping&nbsp\;people with disabilities find meaningful employment.&nbsp\;<br />\n<br />\n<strong>At this meeting</strong>\, you&#39\;ll hear experts from Peckham Industries and the GISD&#39\;s Transition Center dispel myths about disabilities\, and learn more about what qualifies as a disability. You&#39\;ll also have the chance to talk with other employers\, sharing challenges and best practices.&nbsp\;<br />\n<br />\nThis event is free and open to all employers and community partners throughout Flint &amp\; Genesee. Lunch will be provided.&nbsp\;<strong>Registration is limited to 50 attendees\, so secure your spot today!</strong>
LOCATION:MTA - J. Michael Zelley Training Center 1700 S. Dort Highway (behind the KFC\, driveway entrance off Lapeer Rd.) Flint\, MI 48503
UID:e.2606.20204
SEQUENCE:3
DTSTAMP:20260421T162252Z
URL:https://members.flintandgeneseechamber.org/events/details/disability-works-community-meeting-20204
END:VEVENT

END:VCALENDAR
