BEGIN:VCALENDAR
VERSION:2.0
PRODID:-//ChamberMaster//Event Calendar 2.0//EN
METHOD:PUBLISH
X-PUBLISHED-TTL:P3D
REFRESH-INTERVAL:P3D
CALSCALE:GREGORIAN
BEGIN:VEVENT
DTSTART;VALUE=DATE:20130518
DTEND;VALUE=DATE:20130520
TRANSP:TRANSPARENT
X-MICROSOFT-CDO-ALLDAYEVENT:TRUE
SUMMARY:“Disney’s Beauty and the Beast” at The Whiting
DESCRIPTION:www.thewhiting.com
X-ALT-DESC;FMTTYPE=text/html:<a href="http://www.thewhiting.com/">www.thewhiting.com</a>
LOCATION:The Whiting 1241 E. Kearsley St. Flint Michigan 48503
UID:e.2606.104
SEQUENCE:3
DTSTAMP:20260422T042248Z
URL:https://members.flintandgeneseechamber.org/events/details/disney-s-beauty-and-the-beast-at-the-whiting-05-18-2013-104
END:VEVENT

END:VCALENDAR
