BEGIN:VCALENDAR
VERSION:2.0
PRODID:-//ChamberMaster//Event Calendar 2.0//EN
METHOD:PUBLISH
X-PUBLISHED-TTL:P3D
REFRESH-INTERVAL:P3D
CALSCALE:GREGORIAN
BEGIN:VEVENT
DTSTART:20240504T140000Z
DTEND:20240504T170000Z
X-MICROSOFT-CDO-ALLDAYEVENT:FALSE
SUMMARY:Dort Financial Credit Union Shred Day
DESCRIPTION:Dort Financial Credit Union is hosting a shred day on May 4th where members may shred up to four boxes of paper items.\n\n \n\nIf you or anyone you know could benefit from this\, please feel free to pass along the information!
X-ALT-DESC;FMTTYPE=text/html:<div>Dort Financial Credit Union is hosting a shred day on May 4<sup>th</sup>&nbsp\;where members may shred up to four boxes of paper items.</div>\n\n<div>&nbsp\;</div>\n\n<div>If you or anyone you know could benefit from this\, please feel free to pass along the information!</div>\n
LOCATION:Dort Financial Pierson Rd branch in Flint\, and our State Rd branch in Davison.
UID:e.2606.18224
SEQUENCE:3
DTSTAMP:20260421T150702Z
URL:https://members.flintandgeneseechamber.org/events/details/dort-financial-credit-union-shred-day-18224
END:VEVENT

END:VCALENDAR
