BEGIN:VCALENDAR
VERSION:2.0
PRODID:-//ChamberMaster//Event Calendar 2.0//EN
METHOD:PUBLISH
X-PUBLISHED-TTL:P3D
REFRESH-INTERVAL:P3D
CALSCALE:GREGORIAN
BEGIN:VEVENT
DTSTART:20140516T130000Z
DTEND:20140516T193000Z
X-MICROSOFT-CDO-ALLDAYEVENT:FALSE
SUMMARY:Elder Advocacy Boot Camp & Law
DESCRIPTION:Providing Solutions to Critical Elder Care Issues.\n\nThe Elder Advocacy and Law Boot Camp is a unique opportunity to learn about today's issues that our Elders are facing and how you can be active in learning solutions to these critical matters. Target attendees: Social Workers\, Nursing Home Administrators & Physicians. CE and CME Credits Available.\n\nClick here to view flyer:\n\nHeld at Genesys Banquet Center\n\nRegistration is required:\n\nwww.michiganEPLC.com\n\nOr contact Rachel or Katie at 810-694-9000\n\nThis event is coordinated by the Michigan Estate Planning Law Center.
X-ALT-DESC;FMTTYPE=text/html:Providing Solutions to Critical Elder Care Issues.\n\nThe Elder Advocacy and Law Boot Camp is a unique opportunity to learn about today's issues that our Elders are facing and how you can be active in learning solutions to these critical matters. Target attendees: Social Workers\, Nursing Home Administrators &amp\; Physicians. CE and CME Credits Available.\n\n<strong><a href="/wp-content/themes/flintgenesee/pdf/bootCamp.pdf" target="_blank">Click here</a></strong> to view flyer:\n\nHeld at Genesys Banquet Center\n\nRegistration is required:\n\n<a href="http://www.michiganeplc.com/" target="_blank">www.michiganEPLC.com</a>\n\nOr contact Rachel or Katie at 810-694-9000\n\nThis event is coordinated by the Michigan Estate Planning Law Center.\n\n&nbsp\;
LOCATION:Genesys Conference and Banquet Center 805 Health Park Blvd Grand Blanc MI 48439
UID:e.2606.933
SEQUENCE:3
DTSTAMP:20260421T101617Z
URL:https://members.flintandgeneseechamber.org/events/details/elder-advocacy-boot-camp-law-05-16-2014-933
END:VEVENT

END:VCALENDAR
